BEGIN:VCALENDAR
VERSION:2.0
PRODID:-//Painonnostoliitto - ECPv6.15.14//NONSGML v1.0//EN
CALSCALE:GREGORIAN
METHOD:PUBLISH
X-WR-CALNAME:Painonnostoliitto
X-ORIGINAL-URL:https://painonnosto.fi
X-WR-CALDESC:Tapahtumat Painonnostoliitto
REFRESH-INTERVAL;VALUE=DURATION:PT1H
X-Robots-Tag:noindex
X-PUBLISHED-TTL:PT1H
BEGIN:VTIMEZONE
TZID:Europe/Helsinki
BEGIN:DAYLIGHT
TZOFFSETFROM:+0200
TZOFFSETTO:+0300
TZNAME:EEST
DTSTART:20200329T010000
END:DAYLIGHT
BEGIN:STANDARD
TZOFFSETFROM:+0300
TZOFFSETTO:+0200
TZNAME:EET
DTSTART:20201025T010000
END:STANDARD
BEGIN:DAYLIGHT
TZOFFSETFROM:+0200
TZOFFSETTO:+0300
TZNAME:EEST
DTSTART:20210328T010000
END:DAYLIGHT
BEGIN:STANDARD
TZOFFSETFROM:+0300
TZOFFSETTO:+0200
TZNAME:EET
DTSTART:20211031T010000
END:STANDARD
BEGIN:DAYLIGHT
TZOFFSETFROM:+0200
TZOFFSETTO:+0300
TZNAME:EEST
DTSTART:20220327T010000
END:DAYLIGHT
BEGIN:STANDARD
TZOFFSETFROM:+0300
TZOFFSETTO:+0200
TZNAME:EET
DTSTART:20221030T010000
END:STANDARD
END:VTIMEZONE
BEGIN:VEVENT
DTSTART;VALUE=DATE:20210304
DTEND;VALUE=DATE:20210308
DTSTAMP:20260426T042207
CREATED:20210219T065354Z
LAST-MODIFIED:20210219T110659Z
UID:16649-1614816000-1615161599@painonnosto.fi
SUMMARY:Monilajinen nuorisourheiluleiri
DESCRIPTION:Monilajinen nuorisourheiluleiri\nKeihäsolympiadi + painonnosto  4.3-7.3.2021 \nAlustava ohjelma \n  \nto 4.3  \n16.00 saapuminen ja majoittuminen \n16.30 avaus \n17.00 päivällinen \n18.30-21 Pajulahtihalli aidat\, jalkatyö\, kuulanheitot+kuntopallot \n18:30 – 21 Painonnosto Nikula\, Tekniikan perusteita tempaus ja työntö \n21 iltapalan jako \n  \npe 5.3  \n7.30 aamureippailu \n8.00 aamupala \n9.30-13.00 heittoharjoitus pitkät heitot (Pajulahtihallin keskialue koko kenttä ja heittopaikka 2 ryhmässä) \n9:30 – 13.00 Painonnosto Nikula\,  Tempaus / Tempaus yhdistelmä\, \n13.00 lounas \n14.00-17.00 Naisten keihään kutsukilpailu jalkapallokenttä & korkeuspääty Painonnosto\, saa mennä katsomaan \n15.00-17.00 loikka-+juoksutestit \n15:00 – 17:00 Painonnosto Nikula\, Työntö\, / Työntö yhdistelmä \n17.00 päivällinen \n18.30-21.00 pelailut + Voimistelusali + kuntosali \n  \n  \nla 6.3  \n7.30 aamureippailu \n8.00 aamupala \n9.00-10.00 heittojen video analyysi (joku luokka missä tykki) \n10.00-12 pallojumppa (vartalonhallinta) \n09:00 – 11:30 Painonnosto Nikula  \nTe + Ty  samassa reenissä \n12.00 lounas \n14.00-16.30 Keihäas: Voimaharjoitus Nikulahalli cross training alue \n14:00 – 16:30 Painonnosto :  Pajulahti halli\, yleisurheilureeni\, \n16.30 päivällinen \n19.00-21 pallopelit+ huoltava voima\, päärakennuksen palloilusali & kuntosali \n  \nsu 7.3 \n7.30 aamureippailu \n8.00 aamupala \n9.30-12 kuntopallot+ lajitekninen jalkatyö Nikulahallin judo/karatematto \n9:30 – 12: 00 Painonnosto Pajulahti halli  Henkilökohtainen nostotekniikka ja voima \n12.00 lounas \n13.30-15.00 heittoharjoitus/lajitekninen jalkatyö (Pajulahtihalli) \n13:30 – 15:00 Painonnosto Nikula Huoltava  reeni\, tekniikka \n  \nOsallistuminen leireille on avoin kaikille juniorinostajille. Leireille ovat tervetulleita niin ikäluokkansa parhaat kuin lajin juuri aloittaneet. Leirit on tarkoitettu myös niille junioreille. jotka ovat vielä valmennusryhmien ulkopuolella tai joilla ei ole omaa seuravalmennusta. Avoimelle leirille ovat tervetulleita mukaan toimintaan paikanpäälle myös urheilijoiden vanhemmat ja henkilökohtaiset valmentajat. Urheilijavalinnassa etusijalla ovat alle 17 v. nostajat\, mutta osanottajamäärien salliessa  ikäraja on vain ohjeellinen\, sillä innostus ajaa ikärajojen ohi. \nLeireillä toimimme keihäsolympiadi leireillä hyväksi havaitun nuorisourheilija leirityksen konseptilla\, leiri on avoin kaikille\, Pajulahdessa kaikilla on kivaa. \nKeihäsolympiadi – Yksilölajin ryhmävalmennusta …\nhttps://www.youtube.com/watch?v=TPSWjCKw2GU \n  \nLeirillä urheillaan monipuolisesti\, harjoituksia ovat ohjaamassa koulutetut  painonnosto- ja yleisurheiluvalmentajat. Monipuolisen lajiharjoittelun lisäksi toteutamme harjoittelua painonnostajille soveltuvin yleisurheilu- ja voimisteluharjoittein. Ensimmäisellä leirillä painonnostoharjoituksista vastaavat Jyrki Kononen ja Saara Retulainen\, \nKeihäänheitossa Tuomas Laaksonen ja Heidi Nokelainen. Lisäksi päivä / harjoituskohtaisesti mukana toimii apuvalmentajia. \nIlmoittautuminen \nTässä seuraavan painonnostoleirin ilmoittautumislinkki ja liitteenä alustava ohjelma. https://pajulahti.com/painonnostoleiri/ \n  \nLeirin hinta on alle 16 v junioreilla 207 e / 3 vrk\,   Aikuinen  222 e / 3 vrk \n  \nNähdään raudan äärellä\,   terveisin  Jyrki
URL:https://painonnosto.fi/tapahtuma/monilajinen-nuorisourheiluleiri/2021-03-04/
LOCATION:Liikuntakeskus Pajulahti\, Pajulahdentie 167\, Nastola\, 15560\, Suomi
ATTACH;FMTTYPE=image/jpeg:https://painonnosto.fi/wp-content/uploads/2021/02/PAJULAHTI_161114_NS_6871-e1494409895348.jpg
ORGANIZER;CN="Jyrki Kononen":MAILTO:jyrski.kononen@hotmail.fi
END:VEVENT
BEGIN:VEVENT
DTSTART;TZID=Europe/Helsinki:20210306T110000
DTEND;TZID=Europe/Helsinki:20210306T130000
DTSTAMP:20260426T042207
CREATED:20210204T143231Z
LAST-MODIFIED:20210302T145810Z
UID:16530-1615028400-1615035600@painonnosto.fi
SUMMARY:Kansallinen kisa\, Turku (TAK)
DESCRIPTION:Kilpailupaikka ja -osoite: Raunistulantie 15\, Turku Huom: Jos liikuntakeskus Alfa ei aukea\, kisa saatetaan järjestää Turun jossakin neljästä CF salista.\n \nJärjestävä seura: TAK \nSarjat\, tulosrajat: Kaikki aikuisten sarjat \nIlmoittautuminen: Koronan takia kilpailut vain TAK:n nostajille \nHUOM: Koronan takia kisaan saa osallistua vain 10-12 nostajaa\, joten emme voi taata kaikille paikkaa kisassa. \nOsanottomaksu: Ei maksua TAK:n nostajille \nYhteyshenkilö ja puh. nro: Pasi Kailajärvi puh: 044 2718 418 \n pasi@terapiakuperkeikka.fi
URL:https://painonnosto.fi/tapahtuma/kansallinen-kisa-turku-tak-5/
LOCATION:Liikuntakeskus Alfa\, Raunistulantie 15\, Turku\, 20100\, Suomi
CATEGORIES:Kilpailut
ORGANIZER;CN="Turun Atleettiklubi":MAILTO:info@turunatleettiklubi.fi
END:VEVENT
BEGIN:VEVENT
DTSTART;VALUE=DATE:20210312
DTEND;VALUE=DATE:20210315
DTSTAMP:20260426T042207
CREATED:20200817T085604Z
LAST-MODIFIED:20210219T084318Z
UID:13878-1615507200-1615766399@painonnosto.fi
SUMMARY:Painonnoston Valmentajakoulutus taso- I 1. Lähijakso
DESCRIPTION:KUTSU\n \nPainonnoston Valmentaja taso- I koulutukseen kuuluu kaksi lähijaksoa (pe – su)\, joihin on molempiin osallistuttava koulutuksen suorittamiseksi. Osallistuaksesi sinulla on oltava käytössä älylaite. \nEnsimmäinen lähijakso:  12.3.-14.3.2021 \nToinen lähijakso:  11.6.-13.6.2021 \nKoulutuksen hinta on sama sekä verkkokoulutuksena\, että paikan päällä 595€. \nHintaan sisältyy täysihoito Varalan Urheiluopistolla lähijaksojen aikana ja kurssimateriaali\, sekä sähköisen oppimisympäristön käyttöoikeus. Oppimisympäristöä varten tarvitset internet yhteyden ja sähköpostiosoitteen. Tehtävien palautus tapahtuu myös sähköisesti.  \nKurssin käytännön harjoitukset voi toteuttaa myös omalla kotisalilla(tarvitset vähintään yhden urheilijan) ja ne on tarkoitus toteuttaa samaan aikaan kurssin aikataulun mukaisesti. \nKurssille otetaan 20 osallistujaa ilmoittautumisjärjestyksessä\, liiton jäsenseurojen painonnostovalmentajat ovat etusijalla. Huomioithan\, että kun 20 valmentajaa on ilmoittautunut\, seuraavat pääsevät varasijoille.   \nPääsyvaatimukset \nTason I painonnoston valmentajakoulutukseen otetaan muidenkin lajien valmentajia\, jos heillä on valmennuksessaan urheilijoita. Muiden lajien valmentajilta vaaditaan Painonnoston ohjaajakoulutus II-kurssin käyminen ennen Taso I koulutusta. Ota tässä tapauksessa yhteyttä sähköpostitse ennen ilmoittautumista. koulutus@painonnosto.fi  \nMuiden lajien valmentajien on otettava huomioon\, että tehtävät käsitellään painonnoston kannalta eikä heidän lajinsa voimaharjoittelun kannalta. Tavoitteena on käydä keskustelua kokonaisvaltaisesta painonnostoharjoittelusta\, joka tähtää huippu-urheiluun painonnostossa. \nPainonnostoliiton jäsenseurojen päävalmentajat voivat suositella omia jäseniään olemalla yhteydessä koulutus@painonnosto.fi  \nILMOITTAUTUMINEN  \nIlmoittautumisaika kurssille on 1.1.2021 – 21.2.2021. Ilmoittautuminen on sitova 21.2.202021 jälkeen ja se koskee samalla kumpaakin lähijaksoa.\nMuistathan ilmoittaa mikäli et majoittaudu Varalassa sekä erikoisruokavaliosi.\n(hinta on sama majoituksesta riippumatta)\n \nEnsimmäisen jakson valmistavat tehtävät toimitetaan alkaen 22.2.2021 osallistuvien sähköpostiin\, jotka tulee olla tehtynä ja palautettuna su 7.3.2021 mennessä!   \nIlmoittautumiset tehdään Suomisport järjestelmän kautta: https://www.suomisport.fi/events/9a63f331-3a04-4251-8da8-64fb3a153361 \nLuo ensin itsellesi tunnukset osoitteessa www.suomisport.fi\, jonka jälkeen pääset ilmoittautumaan Muista kertoa lisätietokentässä lyhyesti taustastasi ja valmentajakokemuksestasi.   \nLinkki Suomisport tapahtumaan ja ilmoittautumiseen: \nPERUUTUKSET \nMikäli joudut peruuttamaan ilmoittautumisesi:\n15 vrk ennen tilaisuuden alkua\, veloitamme 50 % tilaisuuden kokonaishinnasta\n10  vrk ennen tilaisuuden alkua\, veloitamme 75 % tilaisuuden kokonaishinnasta\nalle 10 12 vrk ennen tilaisuuden alkua\, veloitamme tilaisuuden kokonaishinnan mukaan\nKoulutus toteutuu kun 15 paikkaa on täyttynyt.\n \nSairastumisen sattuessa tarvitsemme lääkärintodistuksen \nLisätietoa: koulutus@painonnosto.fi \nTervetuloa TAMPEREELLE!  \nPidetään oikeudet muutoksiin 
URL:https://painonnosto.fi/tapahtuma/painonnoston-valmentajakoulutus-taso-i/
LOCATION:Varalan Urheiluopisto\, Varalankatu 36\, Tampere\, 33240\, Suomi
CATEGORIES:Koulutukset
ORGANIZER;CN="SPNL- koulutus":MAILTO:koulutus@painonnosto.fi
GEO:61.4946248;23.713085
X-APPLE-STRUCTURED-LOCATION;VALUE=URI;X-ADDRESS=Varalan Urheiluopisto Varalankatu 36 Tampere 33240 Suomi;X-APPLE-RADIUS=500;X-TITLE=Varalankatu 36:geo:23.713085,61.4946248
END:VEVENT
BEGIN:VEVENT
DTSTART;VALUE=DATE:20210312
DTEND;VALUE=DATE:20210318
DTSTAMP:20260426T042207
CREATED:20201007T090235Z
LAST-MODIFIED:20210317T113206Z
UID:14711-1615507200-1616025599@painonnosto.fi
SUMMARY:Maajoukkueleiri
DESCRIPTION:EM-leiri EM-ryhmälle Kuortaneen Urheiluopistolla \n\n\n\n\n\n\n\n\nURHEILUTAPAHTUMA \nEM-leiri 2021\nSuomen Painonnostoliitto\n\n\n\n\n\n\n\n\n\n\n\n\nAJANKOHTA\nPerjantai 12.3.2021 klo 16:00 -keskiviikko 17.3.2021 klo 12:00\n\n\nSIJAINTI\n\nOpistotie 1\, 63100 Kuortane\, SuomiKatso kartta\n\n\n\n\nOHJAAJAT\nAntti Everi\nJimmy Taivaloja
URL:https://painonnosto.fi/tapahtuma/maajoukkueleiri-5/
LOCATION:Kuortaneen Urheiluopisto\, Opistotie 1\, Kuortane\, 63100
ORGANIZER;CN="SPNL aikuisten maajoukkue":MAILTO:roininenteemu@gmail.com
END:VEVENT
BEGIN:VEVENT
DTSTART;TZID=Europe/Helsinki:20210313T090000
DTEND;TZID=Europe/Helsinki:20210314T170000
DTSTAMP:20260426T042207
CREATED:20200616T114651Z
LAST-MODIFIED:20210127T123559Z
UID:13209-1615626000-1615741200@painonnosto.fi
SUMMARY:Painonnoston ohjaajakoulutus 1 Kuopio
DESCRIPTION:Tapahtuma piti alunperin järjestää 14-15.11.2020\, mutta tapahtuma on siirretty ajalle 13-14.3.2021.\nKoulutuksessa opetellaan olympianostojen ja niitä tukevien levytankotekniikoiden perusteet ja nuorten voimaharjoittelun tavoitteet.  \nKoulutus soveltuu kaikille muiden lajien ohjaajille\, valmentajille sekä urheilijoille\, jotka haluavat oppia painonnostoa. Lisäksi koulutus on hyvä ensimmäinen askel valmentajan polulla myös seurojen painonnostokoulu ohjaajille.  \nLiikunta-alan tuleville ammattilaisille koulutus sopii lasten ja nuorten työharjoittelun tai fysiologian ja biomekaniikan kurssien yhteyteen. Samalla sinulla on mahdollisuus edetä valmentajanpolulla ja saada hyväksi luettua opintopisteitä valmentajan taso I ja II koulutuksista ja näin erikoistua painonnosto valmentajaksi.  \nKoulutuspaikkana toimii erinomaiset painonnoston harjoitustilat omaava Sawo. \nKoulutus on kaksipäiväinen alkaen lauantaina klo 9:00 kestäen lauantaina koko päivän\, päättyen sunnuntaina klo 17:00 mennessä (pidätämme oikeudet muutoksiin). Koulutukseen tulija vastaa itse mahdollisista majoitus- ja ruokailukustannuksista. \nKoulutus sisältää:\n– neljä käytännön harjoitusta sekä luentoja\n– levytankoharjoittelun tavoitteet aloittelijoille\, nuorille ja muiden lajien voimaharjoitteluun\n– perustiedot painonnostoon ja sen harjoitteluun\n– käytännönharjoitteina perusteet olympianostoihin ja niitä tukeviin levytankoharjoitteisiin:\nkyykky\, etukyykky\, rinnalleveto\, ylöstyöntö\, työntö\, valakyykky ja tempaus \nKoulutuksen hinta on 395€ ja siihen sisältyy kurssimateriaali\, diplomi(myös sähköisen diplomi Suomisport profiiliisi) sekä kurssin suoritettuasi nimi SPNL:n PNOK1-ohjaajien listaan.\nKoulutus on mahdollista saada opiskelijahintaan 316€\, toimita tällöin ilmoittautumisen yhteydessä todistus opiskelusta osoitteeseen koulutus@painonnosto.fi\nTai jäsenhintaan 295€\, joka on voimassa vain Suomen Painonnostoliiton palvelumaksun suorittaneiden jäsenseurojen jäsenille. \nIlmoittautuminen: \nKoulutukseen otetaan ilmoittautumisjärjestyksessä 18 osallistujaa. \nIlmoittautuminen aukeaa 16.6.2020 ja sitovat ilmoittautumiset on tehtävä 7.3.2021 mennessä osoitteessa: \nhttps://www.suomisport.fi/events/c244964f-5ac9-4167-9d66-0f076ec3fd02 \nLuo ensin itsellesi tunnukset osoitteessa www.suomisport.fi\, jonka jälkeen pääset ilmoittautumaan ja maksamaan tapahtuman. Muista kertoa lisätietokentässä lyhyesti taustastasi ja valmentajakokemuksestasi. \nPeruutusehdot: \nMaksuton peruutus ennen sitovan ilmoittautumisajan päättymistä\, tämän jälkeen peruutusmaksu 50% kurssin hinnasta tai lääkärintodistus. Peruutuksista 72h ennen koulutuksen alkua vaaditaan aina lääkärintodistus\, muutoin veloitus kurssin hinta. \nOikeudet muutoksiin pidätetään. \nTervetuloa mukaan!
URL:https://painonnosto.fi/tapahtuma/painonnosto-ohjaakoulutus-1-kuopio/
LOCATION:Sawo\, Siikaranta 9a\, Kuopio\, 70620
CATEGORIES:Koulutukset
ATTACH;FMTTYPE=image/png:https://painonnosto.fi/wp-content/uploads/2020/06/esite-v.-1.01-1030x631-1.png
ORGANIZER;CN="SPNL- koulutus":MAILTO:koulutus@painonnosto.fi
END:VEVENT
BEGIN:VEVENT
DTSTART;TZID=Europe/Helsinki:20210314T100000
DTEND;TZID=Europe/Helsinki:20210314T180000
DTSTAMP:20260426T042207
CREATED:20210209T084941Z
LAST-MODIFIED:20210225T085747Z
UID:16577-1615716000-1615744800@painonnosto.fi
SUMMARY:Kansalliset kilpailut\, Rovaniemi (RoRe) PERUUTETTU
DESCRIPTION:Rovaniemen Reipas peruuttaa kansalliset kilpailut 14.3.2021 koronatilanteesta johtuen. Jaarli Pirkkiö  (peruutustieto 25.2.) \n  \nYhteyshenkilö Jaarli Pirkkiö\, 044-2090422. \nKilpailuun ilmoittautuminen 10.03.2021 mennessä osoitteeseen: jaarli.pirkkio@gmail.com\nOsanottomaksu 15.00 EUR/kilpailija maksetaan ilmoittautumisen yhteydessä Rovaniemen Reippaan painonnostojaoston tilille FI24 5640 0220 1939 37 \nKilpailussa noudatetaan Lapin aluehallintoviraston määräämiä koronarajoituksia.
URL:https://painonnosto.fi/tapahtuma/kansalliset-kilpailut-rovaniemi-rore-2-peruutettu/
LOCATION:Santasport Lapin Urheiluopisto\, Voimapaja\, Hiihtomajantie 2\, Rovaniemi\, 96400
CATEGORIES:Kilpailut
ORGANIZER;CN="Rovaniemen Reipas":MAILTO:jaarli.pirkkio@gmail.com
END:VEVENT
BEGIN:VEVENT
DTSTART;TZID=Europe/Helsinki:20210320T140000
DTEND;TZID=Europe/Helsinki:20210320T173000
DTSTAMP:20260426T042207
CREATED:20210215T115400Z
LAST-MODIFIED:20210215T115400Z
UID:16599-1616248800-1616261400@painonnosto.fi
SUMMARY:Kansallinen kutsukilpailu\, Jyväskylä (ÄH)
DESCRIPTION:IWF:n kaikki naisten ja miesten sarjat. \n10 henkilön rajoitus.  Kolme tuomaria/toimitsijaa + seitsemän nostajaa max. \n 
URL:https://painonnosto.fi/tapahtuma/kansallinen-kutsukilpailu-jyvaskyla-ah/
LOCATION:Jyväskylän Crossfit sali\, Sorastajantie 1\, Jyväskylä\, 40320
CATEGORIES:Kilpailut
ORGANIZER;CN="%C3%84%C3%A4nekosken Huima":MAILTO:maripaa@hotmail.com
END:VEVENT
BEGIN:VEVENT
DTSTART;TZID=Europe/Helsinki:20210321T080000
DTEND;TZID=Europe/Helsinki:20210321T153000
DTSTAMP:20260426T042207
CREATED:20210219T080923Z
LAST-MODIFIED:20210319T123117Z
UID:16658-1616313600-1616340600@painonnosto.fi
SUMMARY:Avoimet TUL:n Savon piirin pm painonnosto\, Leppävirta (LepU)
DESCRIPTION:Älä tule kilpailuun\, mikäli sinulla on lievänkin hengitystieinfektion oireita (nuha\, yskä\, hengenahdistus\, lihaskivut\, kuume jne). Älä tuo tiloihin myöskään lapsia\, mikäli heillä on jotain näistä oireista.\nMikäli kuulut riskiryhmään\, harkitse onko kilpailuihin saapuminen kohdallasi kannattavaa.\nDesinfio kätesi saapuessa\, noudata paikan päällä annettavia desinfiointiohjeita välineiden käytöstä.\nPese kätesi huolellisesti vedellä ja saippualla\, noudata käsienpesuohjeita.\nDesinfioi treenivälineesi ennen ja jälkeen lämmittelyn suihkepulloissa olevalla desinfiointiaineella ja kertakäyttöliinalla. Heitä käytetyt kertakäyttöliinat heti roskakoriin.\nVaihda High five riemunkiljahduksiin tai Fist bumpiin.\nVältä kasvojesi ja silmiesi koskettelua.\nSuojaa suusi ja nenäsi kertakäyttönenäliinalla\, kun yskit tai aivastat.\nJos sinulla on jatkuvaa yskää\, pysyttele oireiden loppumisen jälkeen vielä 4 päivää kotona\nJos sinulla ei ole nenäliinaa\, yski tai aivasta puserosi hihan yläosaan\, älä käsiisi.\nLaita käytetty nenäliina välittömästi roskiin.\nNoudata paikallisia viranomaisohjeita\nKilpailutanko desinfioidaan aina\, mikäli kyseessä ole peräkkäinen nosto.\nRyhmien välillä pidetään pidemmät tauot kuin normaalisti\, jotta vältytään kahden ryhmän samanaikaista kohtaamista.\nRyhmien koko pidetään pieninä\n\n\n\nLeppävirran ammattikoululla sunnuntaina 21.3.2021 klo 12.00\n\nPunnitus klo 10-11\n\nNostetaan kaikki sarjat ja ikäluokat.\n\nIlman lisenssiä nostavat pääsevät mukaan myös. Pidetään kahta pöytäkirjaa\n\nIlm ennakkoon Jorma Rajakannas 040 5287131 tai  jr.lepu@gmail.com. Paikanpäälläkin kerkiää.\n\nOsanottomaksu 20 euroa nostaja.\n\nMaksetaan tilille Leppävirran Urheilijat Fi78 5230 0120 0177 78\, tai paikan päällä\n\nKisan jälkeen noin klo 15.00 alkaa avoin TUL:n Savon pm kuula.\n\nPaikalla on hyvä kahvio.\n\nTervetuloa Leppävirralle.
URL:https://painonnosto.fi/tapahtuma/avoimet-tuln-savon-piirin-pm-painonnosto-leppavirta-lepu/
LOCATION:Leppävirran Ammattikoulu\, Opintie 1\, Leppävirta\, 79100\, Suomi
CATEGORIES:Kilpailut
ORGANIZER;CN="Lepp%C3%A4virran Urheilijat":MAILTO:jr.lepu@gmail.com
END:VEVENT
BEGIN:VEVENT
DTSTART;TZID=Europe/Helsinki:20210327T090000
DTEND;TZID=Europe/Helsinki:20210327T143000
DTSTAMP:20260426T042207
CREATED:20210221T202129Z
LAST-MODIFIED:20210311T091608Z
UID:16695-1616835600-1616855400@painonnosto.fi
SUMMARY:Kansalliset kilpailut\, Rovaniemi (OAK) PERUUTETTU
DESCRIPTION:Koronan aiheuttamien rajoitusten vuoksi tapahtuma peruutettu (11.3.). \n  \nSarjat: kaikki naisten ja miesten sarjat\, omat sarjat alle 17-vuotiaille \nIlmoittautuminen: Eerolle (eero-oja@hotmail.com) ti 23.3. mennessä \nOsallistumismaksu 15 euroa; maksetaan tilille: Ounasvaaran Atleetti Klubi ry\nTilinumero (IBAN): FI67 5640 0220 2833 73 \nKäytä maksaessasi viitenumeroa 1025 \nYhteyshenkilö: Eero Oja\, puh. 040 533 2661 \n  \nKilpailu järjestetään koronatilanteen salliessa. Mikäli kilpailu voidaan järjestää\, kilpailussa noudatetaan Suomen Olympiakomitean ja Suomen Painonnostoliiton sekä Santasportin koronaturvallisuusohjeistuksia. \nKäytä maksaessasi viitenumeroa 1025 \nYhteyshenkilö: Eero Oja\, puh. 040 533 2661 \n  \n  \n 
URL:https://painonnosto.fi/tapahtuma/kansalliset-kilpailut-rovaniemi-oak-11-peruutettu/
LOCATION:Santasport Lapin Urheiluopisto\, Voimapaja\, Hiihtomajantie 2\, Rovaniemi\, 96400
CATEGORIES:Kilpailut
ORGANIZER;CN="Ounasvaaran Atleetti Klubi":MAILTO:info@atleettiklubi.fi
END:VEVENT
BEGIN:VEVENT
DTSTART;TZID=Europe/Helsinki:20210327T100000
DTEND;TZID=Europe/Helsinki:20210327T120000
DTSTAMP:20260426T042207
CREATED:20210127T125829Z
LAST-MODIFIED:20210129T091040Z
UID:16409-1616839200-1616846400@painonnosto.fi
SUMMARY:Tuomarikoulutus III-Kuopio
DESCRIPTION:AJANKOHTA\nLauantai 27.3.2021 klo 10:00 – 12:00\nIlmoittautuminen: Suomisport\nIlmoittautuneille tulee tapahtumapäivänä linkki Zoom-videoneuvottelupalveluun ja erikseen sähköposti Howspace-verkkopalvelusta\, jossa voit tutustua aiheisiin jo ennen verkkokoulutuksen alkua ja vastailla ennakkotehtäviin.\n\n\nSIJAINTI\nHowspace-verkkokoulutus\n\n\nHINTA\nIII-tuomarikorttikoulutus 20\,00 €\n\n\n2h painonnoston III-tason tuomarikoulutus III-tason tuomarikoulutuksen käynyt on oikeutettu toimimaan tuomarina piirikunnallisissa\, seuraotteluissa ja jäsentenvälisissä kilpailuissa. Hinta sisältää Tuomarikortti III:n sekä koulutusmaksun \nTuomarikouluttaja: \nTeknisenä asiantuntijana Jarno Tiainen jarno.tiainen@painonnosto.fi
URL:https://painonnosto.fi/tapahtuma/tuomarikoulutus-iii-kuopio/
LOCATION:Howspace-verkkokoulutus
CATEGORIES:Koulutukset
END:VEVENT
END:VCALENDAR