BEGIN:VCALENDAR
VERSION:2.0
PRODID:-//Painonnostoliitto - ECPv6.15.14//NONSGML v1.0//EN
CALSCALE:GREGORIAN
METHOD:PUBLISH
X-WR-CALNAME:Painonnostoliitto
X-ORIGINAL-URL:https://painonnosto.fi
X-WR-CALDESC:Tapahtumat Painonnostoliitto
REFRESH-INTERVAL;VALUE=DURATION:PT1H
X-Robots-Tag:noindex
X-PUBLISHED-TTL:PT1H
BEGIN:VTIMEZONE
TZID:Europe/Helsinki
BEGIN:DAYLIGHT
TZOFFSETFROM:+0200
TZOFFSETTO:+0300
TZNAME:EEST
DTSTART:20200329T010000
END:DAYLIGHT
BEGIN:STANDARD
TZOFFSETFROM:+0300
TZOFFSETTO:+0200
TZNAME:EET
DTSTART:20201025T010000
END:STANDARD
BEGIN:DAYLIGHT
TZOFFSETFROM:+0200
TZOFFSETTO:+0300
TZNAME:EEST
DTSTART:20210328T010000
END:DAYLIGHT
BEGIN:STANDARD
TZOFFSETFROM:+0300
TZOFFSETTO:+0200
TZNAME:EET
DTSTART:20211031T010000
END:STANDARD
BEGIN:DAYLIGHT
TZOFFSETFROM:+0200
TZOFFSETTO:+0300
TZNAME:EEST
DTSTART:20220327T010000
END:DAYLIGHT
BEGIN:STANDARD
TZOFFSETFROM:+0300
TZOFFSETTO:+0200
TZNAME:EET
DTSTART:20221030T010000
END:STANDARD
END:VTIMEZONE
BEGIN:VEVENT
DTSTART;TZID=Europe/Helsinki:20210201T180000
DTEND;TZID=Europe/Helsinki:20210201T200000
DTSTAMP:20260426T023629
CREATED:20210112T122320Z
LAST-MODIFIED:20210112T122320Z
UID:16213-1612202400-1612209600@painonnosto.fi
SUMMARY:Tuomarikoulutus III-Helsinki
DESCRIPTION:AJANKOHTA\nMaanantai 1.2.2021 klo 18:00 – 20:00\nIlmoittautuminen: Suomisport\nIlmoittautuneille tulee tapahtumapäivänä linkki Zoom-videoneuvottelupalveluun ja erikseen sähköposti Howspace-verkkopalvelusta\, jossa voit tutustua aiheisiin jo ennen verkkokoulutuksen alkua ja vastailla ennakkotehtäviin.\n\n\nSIJAINTI\nHowspace-verkkokoulutus\n\n\nHINTA\nIII-tuomarikorttikoulutus 20\,00 €\n\n\n2h painonnoston III-tason tuomarikoulutus III-tason tuomarikoulutuksen käynyt on oikeutettu toimimaan tuomarina piirikunnallisissa\, seuraotteluissa ja jäsentenvälisissä kilpailuissa. Hinta sisältää Tuomarikortti III:n sekä koulutusmaksun \nKouluttajina toimivat tuomarikouluttajat Jari Hirvonen ja Raimo Turunen \nTeknisenä asiantuntijana Jarno Tiainen jarno.tiainen@painonnosto.fi
URL:https://painonnosto.fi/tapahtuma/tuomarikoulutus-iii-helsinki-2/
CATEGORIES:Koulutukset
ORGANIZER;CN="SPNL -tuomarikoulutus E-S":MAILTO:jari.hirvonen@lohja.fi
END:VEVENT
BEGIN:VEVENT
DTSTART;VALUE=DATE:20210206
DTEND;VALUE=DATE:20210207
DTSTAMP:20260426T023629
CREATED:20201007T090044Z
LAST-MODIFIED:20220401T104544Z
UID:14708-1612569600-1612655999@painonnosto.fi
SUMMARY:Maajoukkue yhteistreeni
DESCRIPTION:Treenipäivä\, Jyväskylä. 6.2.2021 \nLisätiedot Antti Everi
URL:https://painonnosto.fi/tapahtuma/maajoukkueyhteistreeni/
END:VEVENT
BEGIN:VEVENT
DTSTART;TZID=Europe/Helsinki:20210206T090000
DTEND;TZID=Europe/Helsinki:20210206T140000
DTSTAMP:20260426T023629
CREATED:20201229T142723Z
LAST-MODIFIED:20210119T085710Z
UID:15945-1612602000-1612620000@painonnosto.fi
SUMMARY:Heraklesin pm-kotilavakilpailu
DESCRIPTION:Kilpailun pvm muuttunut alkuperäisestä\, kisa piti alunperin järjestää 30.1.2021. Tapahtuma on siirretty viikolla eteenpäin koronarajoitusten takia. \n  \nSarjat\, tulosrajat: IWF:n sääntöjen mukaan naisten ja miesten sarjat. \nOsallistumisoikeus seuran jäsenillä. \nIlmoittautuminen: Suomisportin kautta. \nYhteyshenkilö: Mika Tiainen 0505217128  mika.tiainen1@gmail.com \nJohtokunta 20/2020 21.12.2020 \n9§\nPIIRINMESTARUUSKILPAILUIDEN JÄRJESTÄMINEN KOTILAVAKILPAILUINA \nPäätös KTA esityksen mukaisesti:\nSallitaan vuodelle 2021 piirinmestaruuskilpailujen järjestäminen kotilavakilpailuna.Piirin pariin kuuluva seura voi järjestää yhden kotilavakilpailun\, joissa tehdyillä tuloksilla osallistutaan oman alueen piirinmestaruuskilpailuun. Saman piirin alueella järjestettävät kotilavakilpailut tulee järjestää samalla päivämäärällä. \nPiirin tehtävänä on koostaa erillisten kotilavakilpailujen pöytäkirjat yhdeksi pöytäkirjaksi. Samaan painoluokkaan tehdyt tulokset koostetaan samaan kilpailupöytäkirjaan ja sijoitus määräytyy koostepöytäkirjan mukaan IWF:nsääntöjä noudattaen. Koostetut kilpailupöytäkirjat ja erilliset pöytäkirjat tulee toimittaa liittoon kilpailuja seuraavana päivänä.\nLiiton sivuilla julkaistaan ainoastaan koostetut tulokset yhdistetystä pöytäkirjasta. Tilastoihin syötetään erilliset pöytäkirjat. \n 
URL:https://painonnosto.fi/tapahtuma/heraklesin-pm-kotilavakilpailu/
LOCATION:Ruskeasuon Urheiluhalli\, Ratsastie 10\, Helsinki\, 00280\, Suomi
CATEGORIES:Kilpailut
ORGANIZER;CN="Herakles":MAILTO:herakles@herakles.fi
END:VEVENT
BEGIN:VEVENT
DTSTART;TZID=Europe/Helsinki:20210211T150000
DTEND;TZID=Europe/Helsinki:20210214T120000
DTSTAMP:20260426T023629
CREATED:20201207T071018Z
LAST-MODIFIED:20210107T112953Z
UID:15506-1613055600-1613304000@painonnosto.fi
SUMMARY:Ryhmä Rovaniemi leiri 2021
DESCRIPTION:Painonnostoliitto järjestää leiriviikkoja Ryhmä Rovaniemi 2021 urheilijoille. \nLeiritykset jatkuvat vuoden 2021-puolella ja ryhmä kasvaa koko ajan. \nNuorten 20-23-vuotiaisen EM-kilpailut järjestetään Rovaniemellä 2021 \nIlmoittautuminen: \nhttps://www.suomisport.fi/events/b9ce0114-9d88-46af-9d3f-ac85e684ad72 \nLisätietoa Leena Vartiainen leenakaisavartiainen1@gmail.com \n 
URL:https://painonnosto.fi/tapahtuma/ryhma-rovaniemi-leiri-2021/
LOCATION:Lapin Urheiluopisto\, Voimapaja\, Hiihtomajantie 2\, Rovaniemi\, 96400\, Suomi
END:VEVENT
BEGIN:VEVENT
DTSTART;TZID=Europe/Helsinki:20210213T083000
DTEND;TZID=Europe/Helsinki:20210214T163000
DTSTAMP:20260426T023629
CREATED:20210122T135553Z
LAST-MODIFIED:20210122T140221Z
UID:16357-1613205000-1613320200@painonnosto.fi
SUMMARY:Painonnoston ohjaajakoulutus 1 Rovaniemi
DESCRIPTION:Painonnoston ohjaajakoulutus 1\nPainonnostoliitto järjestää koulutuksen myös osana uutta verkkokoulutuspilottia\, kaikilta osallistujilta vaaditaan älylaitteen(läppäri tai tabletti) käyttöä. Ilmoittautuneet henkilöt saavat kutsun Howspace-työtilaan\, jossa voi etukäteen jo käydä kertomassa omista tavoitteista ja toiveista kurssin suhteen. Kurssilaiset voivat olla etukäteen yhteydessä muihin kurssilaisiin keskustelukanavan kautta Howspace-työtilassa. \nMateriaalit on ladattavissa kurssin aikana Howspacesta. Howspace-työtila aukeaa ilmoittautumisajan päätyttyä. \nKoulutuksessa opetellaan olympianostojen ja niitä tukevien levytankotekniikoiden perusteet ja nuorten voimaharjoittelun tavoitteet. \nKoulutus soveltuu kaikille muiden lajien ohjaajille\, valmentajille sekä urheilijoille\, jotka haluavat oppia painonnostoa. Lisäksi koulutus on hyvä ensimmäinen askel valmentajan polulla myös seurojen punttikouluohjaajille. \nKoulutuspaikkana toimii erinomaiset painonnoston harjoitustilat omaava Santasport Rovaniemellä\, jonne pääsee kätevästi junalla tai lentäen (etäisyydet: Lentoasemalta opistolle n. 10km ja juna-asemalta opistolle n. 4km). \nHinta sisältää majoituksen pe-su täysihoidolla SportHotellissa. Voit osallistua kurssille myös ilman majoitusta\, kts. esite (alla). Koulutus itsessään kestää kaksi päivää alkaen lauantaina klo 8:30 ja päättyen sunnuntaina n. 16:30. \nIlmoittautuminen\nIlmoittautuminen aukeaa 22.1.2021 ja sitovat ilmoittautumiset on tehtävä 7.2.2021 mennessä Suomisportin kautta. Kurssimaksu maksetaan suoraan ilmoittautumisen yhteydessä. Luo ensin itsellesi tunnukset osoitteessa www.suomisport.fi\, jonka jälkeen pääset ilmoittautumaan ja maksamaan tapahtuman. Voit lähettää myös sähköpostia \nMaksuvaihtoehdot: \n1. Ilmoittautuminen 395\,00€ \n2. Opiskelijahinta 316\,00€\, Opiskelijatodistus on toimitettava ilmoittautumisen yhteydessä osoitteeseen koulutus@painonnosto.fi \n3. Alennushinta-ilman aterioita tai majoitusta 355\,50€ \n4. Alennushinta- ilman aterioita ja majoitusta 295\,00€ \n5. Jäsenhinta painonnostoseuroille 295\,00€ \nSuomisportin kautta voi yksityishenkilö tilata myös erikseen laskun\, laskutuslisä 5€
URL:https://painonnosto.fi/tapahtuma/painonnoston-ohjaajakoulutus-1-rovaniemi-3/
LOCATION:Lapin Urheiluopisto\, Voimapaja\, Hiihtomajantie 2\, Rovaniemi\, 96400\, Suomi
CATEGORIES:Koulutukset
ATTACH;FMTTYPE=image/png:https://painonnosto.fi/wp-content/uploads/2019/04/esite-v.-1.01.png
ORGANIZER;CN="SPNL- koulutus":MAILTO:koulutus@painonnosto.fi
END:VEVENT
END:VCALENDAR