BEGIN:VCALENDAR
VERSION:2.0
PRODID:-//Painonnostoliitto - ECPv6.15.14//NONSGML v1.0//EN
CALSCALE:GREGORIAN
METHOD:PUBLISH
X-WR-CALNAME:Painonnostoliitto
X-ORIGINAL-URL:https://painonnosto.fi
X-WR-CALDESC:Tapahtumat Painonnostoliitto
REFRESH-INTERVAL;VALUE=DURATION:PT1H
X-Robots-Tag:noindex
X-PUBLISHED-TTL:PT1H
BEGIN:VTIMEZONE
TZID:Europe/Helsinki
BEGIN:DAYLIGHT
TZOFFSETFROM:+0200
TZOFFSETTO:+0300
TZNAME:EEST
DTSTART:20250330T010000
END:DAYLIGHT
BEGIN:STANDARD
TZOFFSETFROM:+0300
TZOFFSETTO:+0200
TZNAME:EET
DTSTART:20251026T010000
END:STANDARD
BEGIN:DAYLIGHT
TZOFFSETFROM:+0200
TZOFFSETTO:+0300
TZNAME:EEST
DTSTART:20260329T010000
END:DAYLIGHT
BEGIN:STANDARD
TZOFFSETFROM:+0300
TZOFFSETTO:+0200
TZNAME:EET
DTSTART:20261025T010000
END:STANDARD
BEGIN:DAYLIGHT
TZOFFSETFROM:+0200
TZOFFSETTO:+0300
TZNAME:EEST
DTSTART:20270328T010000
END:DAYLIGHT
BEGIN:STANDARD
TZOFFSETFROM:+0300
TZOFFSETTO:+0200
TZNAME:EET
DTSTART:20271031T010000
END:STANDARD
END:VTIMEZONE
BEGIN:VEVENT
DTSTART;VALUE=DATE:20260419
DTEND;VALUE=DATE:20260427
DTSTAMP:20260420T232203
CREATED:20251008T172147Z
LAST-MODIFIED:20260323T061956Z
UID:44802-1776556800-1777247999@painonnosto.fi
SUMMARY:EM-kilpailut\, Batumi\, Georgia
DESCRIPTION:Preli 16.-19.2.2026 \n\nPrelientry julkaistu: 2026 EWF European Championships – European Weightlifting Federation\nFinal entry julkaistu: https://ewf.sport/2026/01/14/2026-ewf-european-championships/\n\nFinalentry 16.-19.3.2026\nOnline Final Verification 30.-31.3.2026 \n2026 European Championships\, to be held in Batumi\, Georgia: \n\n16 April 2026 – Meetings of the EWF Committees and EWF Executive Board\n17 April 2026 – EWF Congress\n18 April 2026 – EWF Seminar\, ITOs Meeting\, and Opening Ceremony\n19 April 2026 – First Competition Day\n26 April 2026 – Last Competition Day\n27 April 2026 – Departure of Delegations\n\n  \nIlmoittautuminen Prelientriin Suomisportissa: https://www.suomisport.fi/events/a6c661f4-1da2-4d82-a0d7-291e65615f29 \nKisasivut: 2026 EWF European Championships – European Weightlifting Federation \nSuomen joukkue: \nKansainvälinen tuomari: Esa Lomma Cat I.
URL:https://painonnosto.fi/tapahtuma/em-kilpailut-batumi-georgia/
LOCATION:Batumi\, Batumi\, Georgia
CATEGORIES:Kilpailut
ATTACH;FMTTYPE=image/png:https://painonnosto.fi/wp-content/uploads/2025/10/EWF-Facebook-Cover-5-1024x379-1.png
END:VEVENT
BEGIN:VEVENT
DTSTART;VALUE=DATE:20260420
DTEND;VALUE=DATE:20260427
DTSTAMP:20260420T232203
CREATED:20251013T103347Z
LAST-MODIFIED:20251013T103347Z
UID:44906-1776643200-1777247999@painonnosto.fi
SUMMARY:Lasten- ja nuorten valtakunnallinen Juniori Cupin kevätkisa 2026 salikilpailuna viikko 17 huhtikuussa 21.-27.4.2026
DESCRIPTION:Kevätkisa toteutetaan salikisana\, jonne kaikilla seuran nuorilla jäsenillä on mahdollisuus osallistua\, vaikkei kilpailulisenssiä olisikaan. \nOsallistumisoikeus \nVähintään harrastajalisenssi 6\,00€ jäsentenvälinen kisa\, kilpailulisenssillä voi nostaa piirikunnallisen tason kilpailuissa. \nKilpailu toteutetaan jäsentenvälisenä-/piirikunnallisena kilpailuna viikolla 17 huhtikuussa 20.-26.4.2026 välisenä aikana. 2009-syntyneiden ja sitä nuorempien tulokset hyväksytään kevätkisaan. Salikisassa huomioidaan kilpailupöytäkirjasta erikseen Juniori Cup ikäiset ja tulokset julkaistaan keskitetysti Juniori Cup 2026 sivustolla. Ota yhteyttä omaan seuraasi ja varmista kilpailun ajankohta\, kilpailu voidaan järjestää myös iltakisana arkipäivänä vaikka treenien yhteydessä. \nPisteet kilpailusta tulevat samaan tapaan kuin aikaisemminkin kevätkisasta\, jossa onnistuneet nostot ja omat ennätykset ovat arvokkaita pisteiden näkökulmasta. \nKevät- ja syyskisa\nSarjan voittajalle 4p.\nToiselle 2p.\nKolmannelle 1p. \nLisäksi kevät- ja syyskisassa kaikille osallistujille jaetaan onnistuneista nostoista lisäpisteitä seuraavasti:\n6 onnistunutta nostoa 3p.\n5 onnistunutta nostoa 2p.\n4 onnistunutta nostoa 1p. \nKilpailijoille lasketaan kolmen (3) parhaimman osakilpailun pisteet yhteen\, jonka perusteella jokaisen ikäsarjan 6 parasta pääsee mukaan loppuhuipennustapahtumaan (tasapisteissä olevat nostajat kutsutaan kaikki\, niin että sarjassa on min. 6 osallistujaa). \nEnnätyksistä lisäpisteitä\nOmasta tempaus-\, työntö- ja yhteistulosennätyksestä saa kilpailun aikana yhden lisäpisteen (pisteen saa vain kerran\, vaikka tulisi useampi ennätys yksittäisessä lajissa tai yhteistuloksessa\, max. 3 pistettä). Aikaisempi ennätys huomioidaan vain edellisistä Juniori Cupin osakilpailuista tai loppuhuipentumasta johon on osallistunut. \nTulokset julkaistaan Juniori Cup[Linkki] -tulospalvelussa. \nPöytäkirjat palautetaan nimellä Juniori Cup keväkisa 2026 + kaupunki+ (seura lyhenne) \nLisätietoa Juniori Cupista ja Punttikarnevaaleista \nJarno Fabritius\nkehityspäällikkö\n+358504680068
URL:https://painonnosto.fi/tapahtuma/lasten-ja-nuorten-valtakunnallinen-juniori-cupin-kevatkisa-2026-salikilpailuna-viikko-17-huhtikuussa-20-26-4-2026/
CATEGORIES:Kilpailut
END:VEVENT
END:VCALENDAR