BEGIN:VCALENDAR
VERSION:2.0
PRODID:-//Painonnostoliitto - ECPv6.15.14//NONSGML v1.0//EN
CALSCALE:GREGORIAN
METHOD:PUBLISH
X-ORIGINAL-URL:https://painonnosto.fi
X-WR-CALDESC:Tapahtumat Painonnostoliitto
REFRESH-INTERVAL;VALUE=DURATION:PT1H
X-Robots-Tag:noindex
X-PUBLISHED-TTL:PT1H
BEGIN:VTIMEZONE
TZID:Europe/Helsinki
BEGIN:DAYLIGHT
TZOFFSETFROM:+0200
TZOFFSETTO:+0300
TZNAME:EEST
DTSTART:20190331T010000
END:DAYLIGHT
BEGIN:STANDARD
TZOFFSETFROM:+0300
TZOFFSETTO:+0200
TZNAME:EET
DTSTART:20191027T010000
END:STANDARD
BEGIN:DAYLIGHT
TZOFFSETFROM:+0200
TZOFFSETTO:+0300
TZNAME:EEST
DTSTART:20200329T010000
END:DAYLIGHT
BEGIN:STANDARD
TZOFFSETFROM:+0300
TZOFFSETTO:+0200
TZNAME:EET
DTSTART:20201025T010000
END:STANDARD
BEGIN:DAYLIGHT
TZOFFSETFROM:+0200
TZOFFSETTO:+0300
TZNAME:EEST
DTSTART:20210328T010000
END:DAYLIGHT
BEGIN:STANDARD
TZOFFSETFROM:+0300
TZOFFSETTO:+0200
TZNAME:EET
DTSTART:20211031T010000
END:STANDARD
END:VTIMEZONE
BEGIN:VEVENT
DTSTART;VALUE=DATE:20201031
DTEND;VALUE=DATE:20201101
DTSTAMP:20260422T191940
CREATED:20200916T110901Z
LAST-MODIFIED:20201026T171004Z
UID:14456-1604102400-1604188799@painonnosto.fi
SUMMARY:Kutsu: Juniori Cup Loppuhuipentuma 31.10.2020 Online-kilpailu PERUTTU!
DESCRIPTION:Tapahtuma on peruttu(päivitetty 26.10.2020) \nKilpailua ei pystytä toteuttamaan nykyisten kilpailusääntöjen mukaisesti\, uudet Online-kilpailuun käytävät kansainväliset IWF Online Cup ja European Masters Online Virtual Championships kilpailutapahtumaa emme pysty sellaisenaan toeuttamaan. \n\nSamassa kilpailuryhmässä toisiaan vastaan kilpailijoiden nostot tuomitsevat eri saleilla eri tuomarit.\nEuropean Masters Online Championships kaltaisiin videotallenteisiin pohjautuviin tapahtumiin voi osallistua myös virallisissa kilpailuissatallennetuilla videoilla. Tällöin videointi ei saa vaikuttaa virallisen kilpailun\nkulkuun siten että IWF:n sääntöjä kellonkäytöstä yms. joudutaan rikkomaan.\n\nJuniori Cupin loppuhuipentuma on siis peruttu. \n\n\nKutsukilpailu\n\nKilpailuun kutsutaan ikäluokittain kahdeksan parasta Juniori Cupin osakilpailupisteiden mukaisesti.\nKisailmoittautumiset Suomisportin kautta ke 21.10.2020 mennessä:\nhttps://www.suomisport.fi/events/afaa7be9-99f0-46f5-b5f6-cdafd21d2aea \nKutsutut:\nTytöt 12v.\nRuska Hirttiö\, Helka Känkänen\, Sara Lindén\, Sara Mäntykenttä\, Liisa Niva\, Emma Postila\, Ida Harmaala\, Venny Leinonen \nPojat 12v.\nHugo Gröhn\, Charger Lindholm\, Kai Ollonen\, Torbjørn Russell\, Antti Järvenpää\, Tuisku Hirttiö\, Ukko Russell\, Juuso Virtaniemi \nTytöt 16v. kansallisen tason kilpailu\nIiris Savolainen\, Janette Ylisoini\, Iita Kononen\, Jenna Timonen-Nissi\, Olivia Kononen\, Saara Postila\, Inka Tiainen\, Ella Iivonen\, Ella Harell \nPojat 16v. kansallisen tason kilpailu\nJonne Akujärvi\, Konsta Suoniemi\, Valtteri Raudasoja\, Eetu Hautaniemi\, Miro Manderbacka\, Lenni Teurajärvi\, Veeti Huhtamäki\, Joona Viitasaari \nKisa-aikataulu:\nLauantai 31.10.2020 \n09:00-10:00 Juniori Cup -loppuhuipentuman punnitus\n11:00 Loppuhuipennuskisa alkaa\n16:00 Kilpailu päättyy \nOsallistumismaksut: \nEi erillistä osallistumismaksua. Ruokailu\, mahdollinen majoitus ja matkakulut omakustanteiset. \nKilpailusäännöt: \nKisa käydään Sinclair-pistekisana\, jokaisen ikäsarjan paremmuusjärjestyksen mukaan: \nVoittajalle 7p./ Toinen 5p./ Kolmas 4p./ Neljäs 3 p./ Viides 2p./ Kuudes 1p. \nLoppuhuipennuskisan pisteet lisätään aikaisempiin osakilpailupisteisiin ja koko Juniori Cupin ikäsarjakohtaiset sijoitukset määräytyvät tämän kokonaispisteytyksen mukaan. Tasatilanteessa loppuhuipennuskisassa paremmin sijoittunut voittaa. \n12-vuotiaiden tai alle tyttöjen ja poikien kilpailu käydään jäsentenvälisenä/piirikunnallisena \n13-16-vuotiaiden tyttöjen ja poikien kilpailu käydään kansallisen tason kilpailuna(edellyttää voimassa olevaa lisenssiä) \nEnnätyksistä lisäpisteitä \nOmasta tempaus-\, työntö- ja yhteistulosennätyksestä saa kilpailun aikana yhden lisäpisteen (pisteen saa vain kerran\, vaikka tulisi useampi ennätys yksittäisessä lajissa tai yhteistuloksessa\, max. 3 pistettä). Aikaisempi ennätys huomioidaan vain edellisistä Juniori Cupin osakilpailuista tai loppuhuipentumasta\, johon on osallistunut. \n\nLIVELÄHETYKSEN OSALLISTUMISEN SÄÄNNÖT JULKAISTAAN PIAN\n\nPalkinnot: \nJuniori Cupin kokonaiskilpailun 3 parasta kustakin sarjasta palkitaan stipendein\, joiden suuruus on sarjojen parhaille 200€\, toiselle ja kolmannelle 100€. \nStipendin voi käyttää kulukorvauksia vastaan esim. leirivuorokausiin\, seuraavan vuoden lisenssin hankintaan\, välinehankintoihin tai kilpailu- ja leirimatkoihin. \nLuokkarajamerkit jaetaan kaikille Juniori Cupin aikana 9.2.-31.10.2020 tehdyissä kilpailuissa luokkarajoja rikkoneille.\nLuokkarajat: https://painonnosto.fi/wp-content/uploads/2020/07/tulos_ja_luokkarajat_2020.pdf \nKilpailun yhteyshenkilö:\nPainonnostoliiton puolesta kilpailujärjestelyissä mukana:\nJarno Tiainen jarno.tiainen@painonnosto.fi p. +358504680068 \nTERVETULOA JUNIORI CUPIN HISTORIALLISEEN ONLINE LOPPUHUIPENTUMAAN!\n\n\n\n\n\n\n 
URL:https://painonnosto.fi/tapahtuma/kutsu-juniori-cup-loppuhuipentuma-31-10-2020-kalajoki/
LOCATION:Online JC\, Zoom\, Suomi
CATEGORIES:Kilpailut
ORGANIZER;CN="Kalajoen Junkkarit":MAILTO:janne.p.niemi@gmail.com
END:VEVENT
END:VCALENDAR