BEGIN:VCALENDAR
VERSION:2.0
PRODID:-//Painonnostoliitto - ECPv6.15.14//NONSGML v1.0//EN
CALSCALE:GREGORIAN
METHOD:PUBLISH
X-WR-CALNAME:Painonnostoliitto
X-ORIGINAL-URL:https://painonnosto.fi
X-WR-CALDESC:Tapahtumat Painonnostoliitto
REFRESH-INTERVAL;VALUE=DURATION:PT1H
X-Robots-Tag:noindex
X-PUBLISHED-TTL:PT1H
BEGIN:VTIMEZONE
TZID:Europe/Helsinki
BEGIN:DAYLIGHT
TZOFFSETFROM:+0200
TZOFFSETTO:+0300
TZNAME:EEST
DTSTART:20240331T010000
END:DAYLIGHT
BEGIN:STANDARD
TZOFFSETFROM:+0300
TZOFFSETTO:+0200
TZNAME:EET
DTSTART:20241027T010000
END:STANDARD
BEGIN:DAYLIGHT
TZOFFSETFROM:+0200
TZOFFSETTO:+0300
TZNAME:EEST
DTSTART:20250330T010000
END:DAYLIGHT
BEGIN:STANDARD
TZOFFSETFROM:+0300
TZOFFSETTO:+0200
TZNAME:EET
DTSTART:20251026T010000
END:STANDARD
BEGIN:DAYLIGHT
TZOFFSETFROM:+0200
TZOFFSETTO:+0300
TZNAME:EEST
DTSTART:20260329T010000
END:DAYLIGHT
BEGIN:STANDARD
TZOFFSETFROM:+0300
TZOFFSETTO:+0200
TZNAME:EET
DTSTART:20261025T010000
END:STANDARD
END:VTIMEZONE
BEGIN:VEVENT
DTSTART;VALUE=DATE:20251004
DTEND;VALUE=DATE:20251005
DTSTAMP:20260423T144512
CREATED:20250715T062337Z
LAST-MODIFIED:20250715T062337Z
UID:42897-1759536000-1759622399@painonnosto.fi
SUMMARY:Tähtiseurapäivä 2025 - kaikille urheiluseuroille!
DESCRIPTION:Tähtiseurapäivä on vuoden odotetuin kohtaamispaikka urheiluseurojen toimijoille! Inspiroiva päivä kokoaa yhteen erityisesti seurojen johdon ja valmennusvastaavat\, tarjoten ainutlaatuisen tilaisuuden kehittää seuratoimintaa\, verkostoitua ja saada uusia oivalluksia. Ohjelmassa on ajankohtaisia teemoja\, lajitapaamisia\, asiantuntijapuheenvuoroja ja käytännön vinkkejä\, joista saat eväitä oman seurasi arkeen. Tapahtuma on suunnattu kaikille urheiluseuroille eli mukaan ovat erittäin tervetulleita muutkin seuratoimijat kuin vain Tähtiseurojen edustajat. \nLisätietoja tapahtumasta ja ohjelmasta löydät tämän sivun kautta: https://www.olympiakomitea.fi/tahtiseurapaiva/ \nOSALLISTUMISMAKSU JA ILMOITTAUTUMINEN:  \nSuomisport \nOsallistumismaksu sisältää ohjelman\, lounaan ja kahvitarjoilut. Illallinen on saatavilla lisämaksusta. EARLY BIRD 31.8. asti: 103\,00 € /hlö (huomioi mahdolliset tarjoukset. Ks Tähtiseuran alekoodi alla) REGULAR 1.9.–18.9. : 133\,00 € /hlö Illallinen (lisämaksu): 50\,00 € /hlö \nPainonnostoliitto kutsuu kaikki seurat tähän yhteiseen tapahtumaan\, mukaan on kutsuttu myös SPNL Tähtiseurat Herakles\, Ounasvaaran Atleetti Klubi ja Harjun Woiman Jyväskylä
URL:https://painonnosto.fi/tapahtuma/tahtiseurapaiva-2025-kaikille-urheiluseuroille/
LOCATION:Marina Congress Center\, Katajanokanlaituri 6\, Helsinki
CATEGORIES:Koulutukset
ATTACH;FMTTYPE=image/png:https://painonnosto.fi/wp-content/uploads/2018/10/banneri_tähtiseura_2018-01.png
END:VEVENT
END:VCALENDAR