BEGIN:VCALENDAR
VERSION:2.0
PRODID:-//Painonnostoliitto - ECPv6.15.14//NONSGML v1.0//EN
CALSCALE:GREGORIAN
METHOD:PUBLISH
X-WR-CALNAME:Painonnostoliitto
X-ORIGINAL-URL:https://painonnosto.fi
X-WR-CALDESC:Tapahtumat Painonnostoliitto
REFRESH-INTERVAL;VALUE=DURATION:PT1H
X-Robots-Tag:noindex
X-PUBLISHED-TTL:PT1H
BEGIN:VTIMEZONE
TZID:Europe/Helsinki
BEGIN:DAYLIGHT
TZOFFSETFROM:+0200
TZOFFSETTO:+0300
TZNAME:EEST
DTSTART:20270328T010000
END:DAYLIGHT
BEGIN:STANDARD
TZOFFSETFROM:+0300
TZOFFSETTO:+0200
TZNAME:EET
DTSTART:20271031T010000
END:STANDARD
BEGIN:DAYLIGHT
TZOFFSETFROM:+0200
TZOFFSETTO:+0300
TZNAME:EEST
DTSTART:20280326T010000
END:DAYLIGHT
BEGIN:STANDARD
TZOFFSETFROM:+0300
TZOFFSETTO:+0200
TZNAME:EET
DTSTART:20281029T010000
END:STANDARD
BEGIN:DAYLIGHT
TZOFFSETFROM:+0200
TZOFFSETTO:+0300
TZNAME:EEST
DTSTART:20290325T010000
END:DAYLIGHT
BEGIN:STANDARD
TZOFFSETFROM:+0300
TZOFFSETTO:+0200
TZNAME:EET
DTSTART:20291028T010000
END:STANDARD
END:VTIMEZONE
BEGIN:VEVENT
DTSTART;VALUE=DATE:20280725
DTEND;VALUE=DATE:20280730
DTSTAMP:20260422T144333
CREATED:20250715T063758Z
LAST-MODIFIED:20260202T063358Z
UID:42901-1848096000-1848527999@painonnosto.fi
SUMMARY:Olympialaiset 2028 Los Angeles
DESCRIPTION:Painnostossa kilpaillaan Olympialaisissa 25.-29. heinäkuuta 2028 Peacock Teatterissa \nPäivittäin kaksi tapahtumaa. \nOlympialaisten päätösseremonia 30.7.2028 \nOlympiakarsinta \n\nOlympiakarsinta LA28 \n\n 
URL:https://painonnosto.fi/tapahtuma/olympialaiset-2028-los-angeles/
LOCATION:Los Angeles
CATEGORIES:Kilpailut
ATTACH;FMTTYPE=image/svg+xml:https://painonnosto.fi/wp-content/uploads/2025/07/2028_Summer_Olympics_Logo.svg
END:VEVENT
END:VCALENDAR