BEGIN:VCALENDAR
VERSION:2.0
PRODID:-//Painonnostoliitto - ECPv6.15.14//NONSGML v1.0//EN
CALSCALE:GREGORIAN
METHOD:PUBLISH
X-WR-CALNAME:Painonnostoliitto
X-ORIGINAL-URL:https://painonnosto.fi
X-WR-CALDESC:Tapahtumat Painonnostoliitto
REFRESH-INTERVAL;VALUE=DURATION:PT1H
X-Robots-Tag:noindex
X-PUBLISHED-TTL:PT1H
BEGIN:VTIMEZONE
TZID:Europe/Helsinki
BEGIN:DAYLIGHT
TZOFFSETFROM:+0200
TZOFFSETTO:+0300
TZNAME:EEST
DTSTART:20170326T010000
END:DAYLIGHT
BEGIN:STANDARD
TZOFFSETFROM:+0300
TZOFFSETTO:+0200
TZNAME:EET
DTSTART:20171029T010000
END:STANDARD
BEGIN:DAYLIGHT
TZOFFSETFROM:+0200
TZOFFSETTO:+0300
TZNAME:EEST
DTSTART:20180325T010000
END:DAYLIGHT
BEGIN:STANDARD
TZOFFSETFROM:+0300
TZOFFSETTO:+0200
TZNAME:EET
DTSTART:20181028T010000
END:STANDARD
BEGIN:DAYLIGHT
TZOFFSETFROM:+0200
TZOFFSETTO:+0300
TZNAME:EEST
DTSTART:20190331T010000
END:DAYLIGHT
BEGIN:STANDARD
TZOFFSETFROM:+0300
TZOFFSETTO:+0200
TZNAME:EET
DTSTART:20191027T010000
END:STANDARD
BEGIN:DAYLIGHT
TZOFFSETFROM:+0200
TZOFFSETTO:+0300
TZNAME:EEST
DTSTART:20200329T010000
END:DAYLIGHT
BEGIN:STANDARD
TZOFFSETFROM:+0300
TZOFFSETTO:+0200
TZNAME:EET
DTSTART:20201025T010000
END:STANDARD
BEGIN:DAYLIGHT
TZOFFSETFROM:+0200
TZOFFSETTO:+0300
TZNAME:EEST
DTSTART:20210328T010000
END:DAYLIGHT
BEGIN:STANDARD
TZOFFSETFROM:+0300
TZOFFSETTO:+0200
TZNAME:EET
DTSTART:20211031T010000
END:STANDARD
BEGIN:DAYLIGHT
TZOFFSETFROM:+0200
TZOFFSETTO:+0300
TZNAME:EEST
DTSTART:20220327T010000
END:DAYLIGHT
BEGIN:STANDARD
TZOFFSETFROM:+0300
TZOFFSETTO:+0200
TZNAME:EET
DTSTART:20221030T010000
END:STANDARD
BEGIN:DAYLIGHT
TZOFFSETFROM:+0200
TZOFFSETTO:+0300
TZNAME:EEST
DTSTART:20230326T010000
END:DAYLIGHT
BEGIN:STANDARD
TZOFFSETFROM:+0300
TZOFFSETTO:+0200
TZNAME:EET
DTSTART:20231029T010000
END:STANDARD
BEGIN:DAYLIGHT
TZOFFSETFROM:+0200
TZOFFSETTO:+0300
TZNAME:EEST
DTSTART:20240331T010000
END:DAYLIGHT
BEGIN:STANDARD
TZOFFSETFROM:+0300
TZOFFSETTO:+0200
TZNAME:EET
DTSTART:20241027T010000
END:STANDARD
BEGIN:DAYLIGHT
TZOFFSETFROM:+0200
TZOFFSETTO:+0300
TZNAME:EEST
DTSTART:20250330T010000
END:DAYLIGHT
BEGIN:STANDARD
TZOFFSETFROM:+0300
TZOFFSETTO:+0200
TZNAME:EET
DTSTART:20251026T010000
END:STANDARD
END:VTIMEZONE
BEGIN:VEVENT
DTSTART;TZID=Europe/Helsinki:20240128T090000
DTEND;TZID=Europe/Helsinki:20240128T160000
DTSTAMP:20260423T161333
CREATED:20231223T200537Z
LAST-MODIFIED:20231227T110242Z
UID:32689-1706432400-1706457600@painonnosto.fi
SUMMARY:Keski-Pohjanmaan piirinmestaruuskilpailut\, Kokkola (LoVe)
DESCRIPTION:Kaikki IWF:n naisten ja miesten sarjat. \nIlmoittautuminen Suomisportin kautta. \nEi osanottomaksua. \nYhteyshenkilö Mikko Niemi 0505861203 mikko.t.niemi65@gmail.com
URL:https://painonnosto.fi/tapahtuma/keski-pohjanmaan-piirinmestaruuskilpailut-kokkola-love-2/
LOCATION:Lohtajan monitoimihalli Maininki\, Karhintie 5\, Kokkola\, 68230\, Suomi
CATEGORIES:Kilpailut
ORGANIZER;CN="Lohtajan Veikot":MAILTO:mikko.t.niemi65@gmail.com
END:VEVENT
BEGIN:VEVENT
DTSTART;VALUE=DATE:20230812
DTEND;VALUE=DATE:20230814
DTSTAMP:20260423T161333
CREATED:20220912T184159Z
LAST-MODIFIED:20230812T065713Z
UID:25175-1691798400-1691971199@painonnosto.fi
SUMMARY:20- ja 23-vuotiaiden SM-kilpailut\, Kokkola (LoVe)
DESCRIPTION:Livelähetys: \nhttps://www.youtube.com/@LoVe_Painonnosto/streams \n  \nYleisöllä on tapahtumaan vapaa pääsy. \n  \nALUSTAVA Kisa-aikataulu: \nLauantai 12.8. \n– punnitus klo 8-9\, tämän jälkeen tuomarikokous 9.15 \n– kilpailut alkaa klo 10 (ensimmäisen ryhmän esittely) \n– naisten sarjat N45-N64 \n– miesten sarjat M55-M81 \n– ryhmäjärjestys: starttilistan mukaisesti \nSunnuntai 13.8. \n– punnitus klo 8-9\, tämän jälkeen tuomarikokous 9.15 \n– kilpailut alkaa klo 10 (ensimmäisen ryhmän esittely) \n– naisten sarjat N71-N+87 kg \n– miesten sarjat M89-M+109 kg \n– ryhmäjärjestys starttilistan mukaisesti \nKisapäivien alustava ryhmäjako julkaistaan ilmoittautumisajan jälkeen ja lopullinen ryhmäjako torstaina 10. elokuuta sen jälkeen\, kun sarjavaihdot on tehty. \nOsallistumisoikeus \nSM-kilpailuihin on osanotto-oikeus urheilijoilla\, jotka ovat saavuttaneet tulosrajan edellisen vuoden SM-kilpailujen jälkeen (15.8.2022) ilmoittautumispäivään mennessä vähintään yhden (1) kerran kansallisissa tai tasoltaan sitä korkeammissa painonnostokilpailuissa. \nOsallistua voivat vain lisenssin lunastaneet Suomen Painonnostoliiton palvelumaksun maksanutta seuraa edustavat urheilijat. \nSuomen antidopingsäännöstö \nNykyinen Suomen antidopingsäännöstö tuli voimaan 1.1.2021 ja kyseinen 3kk:n pykälä on poistunut säännöstöstä. Näin ollen viittaukset vuoden 2015 säännöstöön on poistettu kisavaatimuksista.  Käytännössä urheilija voi lunastaa lisenssin ilmoittautumispäivämäärään mennessä. \nUuden säännöstön tullessa voimaan vuoden 2021 alusta tulee kaikkien tehdä SUEKin uusi Puhtaasti paras -verkkokoulutus. Verkkokoulutus on uusittu kokonaisuudessaan ja vaatii käyttäjiltä uuden rekisteröitymisen. Verkkokoulutuksen linkki: https://puhtaastiparas.fi/. \nSM-kilpailuun ilmoittautuminen ja sarjanvaihto \n\nOsallistua voivat vain lisenssin lunastaneet Suomen Painonnostoliiton palvelumaksun\nmaksanutta seuraa edustavat urheilijat.\n20-vuotiaiden sarjoihin voivat osallistua vuosina 2003 – 2009 syntyneet urheilijat.\n23-vuotiaiden sarjoihin voivat osallistua vuosina 2000 – 2009 syntyneet urheilijat.\nIlmoittautua voi ainoastaan siihen sarjaan\, johon tulosraja on tehty. Sarjanvaihdon voi tehdä\naikaisemman käytännön mukaisesti kilpailuviikonlopun torstaihin klo 18.00 mennessä joko\nyhden sarjan alas- tai ylöspäin\nSovelletaan IWF:n 20 kilon sääntöä sekä miehillä että naisilla niin\, että jokaisen kilpailijan on\nannettava alkupainonsa punnituksessa ilmoitetusta entrystä laskien.\n\nTulosrajat ja ilmoittautumismenettely 2023 \n20- ja 23-vuotiaiden SM-kilpailut 12 – 13.8.2023\, Kokkola (LoVe)\n20- ja 23-vuotiaiden SM-kilpailuihin on osanotto-oikeus urheilijoilla\, jotka ovat saavuttaneet\ntulosrajan edellisen vuoden SM-kilpailujen jälkeen (15.8.2022) ilmoittautumispäivään mennessä\nvähintään yhden (1) kerran kansallisissa tai tasoltaan sitä korkeammissa painonnostokilpailuissa. \nIlmoittautuminen 23.7. mennessä. \n\nOsallistumismaksu yhteen ikäluokkaan 35\,00€ – Ikäluokat tulevat automaattisesti syntymävuoden mukaan seuraavasti: 20-vuotiaat vuonna 2003 – 2009 syntyneet urheilijat. 23-vuotiaat vuonna 2000 – 2009 syntyneet urheilijat.\nOsallistumismaksu kahteen ikäluokkaan 20- ja 23-vuotiaisiin 60\,00€ – Ikäluokat tulevat automaattisesti syntymävuoden mukaan seuraavasti: 20-vuotiaat vuonna 2003 – 2009 syntyneet urheilijat. 23-vuotiaat vuonna 2000 – 2009 syntyneet urheilijat.\nJärjestävän seuran urheilijan ilmoittautuminen yhteen ikäluokkaan alennuskoodi: FREELOV1\nJärjestävän seuran urheilijan ilmoittautuminen kahteen ikäluokkaan 20- ja 23-vuotiaisiin: FREELOV2\n\nJärjestävän seuran (LoVe) jäsenille alennuskoodit ovat voimassa 1.5-23.7.2023 \nIlmoittautuminen Suomiportin kautta: \nIlmoittautumislinkki Suomisportiin 23.7.2023 mennessä: \nhttps://www.suomisport.fi/events/bf1816c9-417a-4a35-a025-7a8cc6a17367 \nToimihenkilöiden ilmoittautuminen: \nhttps://www.suomisport.fi/events/d614aa9c-29e4-47d9-a6dc-1c7e75807b77 \nTulosrajat \nMiesten tulosrajat 20- ja 23-vuotiaiden 12.-13.8.2023 SM-kilpailut \, Kokkola (LoVe)\n\n\n\n\n	Miehet20-vuotiaat23-vuotiaat\n\n\n\n\n	55 kg115 kg\n135 kg\n\n\n	61 kg130 kg150 kg\n\n\n	67 kg150 kg175 kg\n\n\n	73 kg175 kg200 kg\n\n\n	81 kg195 kg215 kg\n\n\n	89 kg210 kg230 kg\n\n\n	96 kg220 kg240 kg\n\n\n	102 kg230 kg250 kg\n\n\n	109 kg240 kg260 kg\n\n\n	+109 kg240 kg260 kg\n\n\n\n\nNaisten tulosrajat 20- ja 23-vuotiaiden 12.-13.8.2023 SM-kilpailut \, Kokkola (LoVe)\n\n\n\n\n	Naiset20-vuotiaat23-vuotiaat\n\n\n\n\n	45 kg70 kg\n80 kg\n\n\n	49 kg80 kg90 kg\n\n\n	55 kg95 kg105 kg\n\n\n	59 kg105 kg115 kg\n\n\n	64 kg115 kg125 kg\n\n\n	71 kg125 kg135 kg\n\n\n	76 kg135 kg145 kg\n\n\n	81 kg140 kg150 kg\n\n\n	87 kg145 kg155 kg\n\n\n	+87 kg145 kg155 kg\n\n\n\n\nSarjanvaihto sekä poisjäänti: \nSarjanvaihdosta tai peruuttamisesta tulee ilmoittaa uuteen Suomisport-tapahtumaan: \nhttps://www.suomisport.fi/events/a2acc25b-86a4-4835-9f77-9e4b3843c9cc \nPainonnoston 20- ja 23-vuotiaiden SM-kilpailut 2023\, Kokkola(LoVe) Sarjanvaihto+Entry \nUrheilijat voivat tehdä sarjanvaihtoilmoituksen ilmoittautumisajan jälkeen klo 18:00 torstaihin 10.8.2023 mennessä. \nVoit muuttaa myös ilmoitettua yhteistulostasi(entrytulos): tämä saattaa vaikuttaa\, missä ryhmässä kilpailee A\, B tai sitä seuraavassa sarjassa\, mikäli ilmoittautuneita samaan sarjaan on useampia. Kilpailunjärjestäjällä on oikeus päättää\, kuinka monta urheilijaa A-ryhmään mahtuu. \nVoit ilmoittaa tähän tapahtumaan\, mikäli peruutat osallistumisesi\, tämä on tärkeä tieto kilpailun kulun kannalta\, jotta saadaan toimihenkilöt puntarista seuraaviin tehtäviin. \nTuomarit: \nIlmoittautumislinkki Suomisportiin: https://www.suomisport.fi/events/d614aa9c-29e4-47d9-a6dc-1c7e75807b77 \nTuomarilla täytyy olla vähintään II-luokan kansallisen tuomarikortti toimiessaan 20-23-vuotiaiden SM-kisojen tuomaritehtävissä. \nLähimmät majoituspaikat Kokkola ja Kalajoki\, molemmista kilpailupaikalle noin 30km \nKilpailupaikalla kahvio jossa myös ruokaa tarjolla \nMajoitustarjous: \nTarjoamme majoitusta meillä Kaarlessa elokuussa 2023:\nPaikka Original Sokos Hotel Kaarle\, Kauppatori 4\, 67100 Kokkola\nPäivämäärä 11.-13.8.2023 väliseksi ajaksi:\nSTANDARDLUOKAN HUONEET\n-Yhden hengen huone\, 95 EUR/huone/vrk\n-Kahden hengen huone\, 115 EUR/huone/vrk\nSUPERIORLUOKAN HUONEET\n-Yhden hengen huone\, 110 EUR/huone/vrk\n-Kahden hengen huone\, 130 EUR/huone/vrk \nHuonehintaan sisältyy aamiainen\, langaton Internetyhteys\, asiakassauna ja vapaa\nkuntosalin käyttö sekä kanta-asiakaskorttimme edut.\nSuperiorluokan huoneet ovat paremmin varusteltuja. Huoneissa on lisäksi kylpytakit\nja –tossut kahdelle\, vedenkeitin (+kahvia\, teetä ja kaakaota)\, ja kylpytuotteita. \nTarjoamamme huonehinnat ovat saatavissa mainitsemalla varausvaiheessa kiintiön\nnimen\, esimerkiksi “Painonnoston SM”. \nKiintiö suljetaan 20.7. jonka jälkeen huoneita on varattavissa saatavuuden mukaan\npäivän hinnalla.\nHuonevaraukset puhelimitse numerosta +358 20 780 8900 tai sähköpostitse\nosoitteesta: kaarle.kokkola@sokoshotels.fi.\nHuoneita varattavissa myös www.sokoshotels.fi -sivujen kautta varaustunnuksella\nBSM2023 \nHotelli Kaarlen edestä järjestetään kyyditys kilpailupaikalle molempina aamuina klo 07:00 \nKilpailuiden jälkeen kyyditys takaisin Kokkolaan\, Kyydityksen hinta 5€/henkilö/suunta \nKyyditystä haluavat\, ilmoittautukaa Mikko Niemi +358505861203 \nKilpailupaikalla ei ole saunaa \n  \nKilpailujen johtaja: Heikki Rautapuro \nKilpailuilmoittautumisiin ja saapumiseen kisapaikalle ole yhteydessä Mikko Niemi +358505861203 \nIlmoittautuminen Suomisportin kautta \nTiedustelut: mikko.t.niemi65@gmail.com
URL:https://painonnosto.fi/tapahtuma/20-ja-23-vuotiaiden-sm-kilpailut-kokkola-love/
LOCATION:Lohtajan monitoimihalli Maininki\, Karhintie 5\, Kokkola\, 68230\, Suomi
CATEGORIES:Kilpailut
ATTACH;FMTTYPE=image/png:https://painonnosto.fi/wp-content/uploads/2022/09/LoVe.png
ORGANIZER;CN="Lohtajan Veikot":MAILTO:mikko.t.niemi65@gmail.com
END:VEVENT
BEGIN:VEVENT
DTSTART;TZID=Europe/Helsinki:20221231T090000
DTEND;TZID=Europe/Helsinki:20221231T150000
DTSTAMP:20260423T161333
CREATED:20221211T135616Z
LAST-MODIFIED:20221212T194144Z
UID:26651-1672477200-1672498800@painonnosto.fi
SUMMARY:Uudenvuoden nostot\, Kokkola (LoVe)
DESCRIPTION:Kaikki IWF:n sarjat. \nIlmoittautuminen 18.12.2022 mennessä sähköpostiin  mikko.t.niemi65@gmail.com \nYhteyshenkilö Mikko Niemi 050 586 1203
URL:https://painonnosto.fi/tapahtuma/uudenvuoden-nostot-kokkola-love/
LOCATION:Lohtajan monitoimihalli Maininki\, Karhintie 5\, Kokkola\, 68230\, Suomi
CATEGORIES:Kilpailut
ORGANIZER;CN="Lohtajan Veikot":MAILTO:mikko.t.niemi65@gmail.com
END:VEVENT
BEGIN:VEVENT
DTSTART;TZID=Europe/Helsinki:20221016T090000
DTEND;TZID=Europe/Helsinki:20221016T180000
DTSTAMP:20260423T161333
CREATED:20220912T185348Z
LAST-MODIFIED:20220923T074844Z
UID:25181-1665910800-1665943200@painonnosto.fi
SUMMARY:Keski-Pohjanmaan nuorten piirinmestaruuskilpailut ja kansallinen kilpailu\, Kokkola (LoVe)
DESCRIPTION:Keski-Pohjanmaan Nuorten piirinmestaruuskilpailut 15-\, 17-\, 20- ja 23-vuotiaiden ikäryhmissä.\n \nIlmoittautuminen: 9.10.2022 mennessä mikko.t.niemi65@gmail.com \nOsanottomaksu: 10 e pm-kilpailuun\,  kansalliseen 20 e. \nSeuran pankki/tilinumero: Kansalliseen LoVen tilille FI7152370020014829 (OP) ja pm-kilpailuun piirin tilille FI2351620020040708 (OP)\n \nYhteyshenkilö ja puhnro: Mikko Niemi 0505861203 \n 
URL:https://painonnosto.fi/tapahtuma/keski-pohjanmaan-nuorten-piirinmestaruuskilpailut-ja-kansallinen-kilpailu-kokkola-love/
LOCATION:Lohtajan monitoimihalli Maininki\, Karhintie 5\, Kokkola\, 68230\, Suomi
CATEGORIES:Kilpailut
ATTACH;FMTTYPE=image/png:https://painonnosto.fi/wp-content/uploads/2022/09/LoVe.png
ORGANIZER;CN="Lohtajan Veikot":MAILTO:mikko.t.niemi65@gmail.com
END:VEVENT
BEGIN:VEVENT
DTSTART;TZID=Europe/Helsinki:20220320T090000
DTEND;TZID=Europe/Helsinki:20220320T170000
DTSTAMP:20260423T161333
CREATED:20220217T211002Z
LAST-MODIFIED:20220217T211002Z
UID:22263-1647766800-1647795600@painonnosto.fi
SUMMARY:Kansallinen Keski-Pohjanmaan masters-piirinmestaruus\,  Kokkola (LoVe)
DESCRIPTION:Sarjat\, tulosrajat:  kaikki masters-sarjat piirinmestaruuskilpailuna ja yleinen kansallinen kilpailu kaikissa sarjoissa \nIlmoittautuminen: 13.3.2022 mennessä sähköpostti mikko.t.niemi65@gmail.com \nOsanottomaksu masters-osallistujille:\n10 euroa masters pm keplin tilille FI2351620020040708 (OKOYFIHH)\n \nOsanottomaksu yleiseen kansalliseen kilpailuun:\nLohtajan Veikkojen tilille FI7152370020014829 (OKOYFIHH)\n \nYhteyshenkilö ja puhnro: Mikko Niemi 0505861203
URL:https://painonnosto.fi/tapahtuma/kansallinen-keski-pohjanmaan-masters-piirinmestaruus-kokkola-love/
LOCATION:Lohtajan monitoimihalli Maininki\, Karhintie 5\, Kokkola\, 68230\, Suomi
CATEGORIES:Kilpailut
ORGANIZER;CN="Lohtajan Veikot":MAILTO:mikko.t.niemi65@gmail.com
END:VEVENT
BEGIN:VEVENT
DTSTART;TZID=Europe/Helsinki:20211219T090000
DTEND;TZID=Europe/Helsinki:20211219T170000
DTSTAMP:20260423T161333
CREATED:20211119T082043Z
LAST-MODIFIED:20211119T082043Z
UID:21004-1639904400-1639933200@painonnosto.fi
SUMMARY:Keski-Pohjanmaan Punttimalja\, Kokkola (LoVe)
DESCRIPTION:Sarjat\, tulosrajat: kilpailevat joukkueet piirisääntöjen mukaan\, kisa avoin myös muille.  Kaikki IWF:n naisten ja miesten sarjat. \nOsanottomaksu: 20 e joukkueiden ulkopuolisille nostajille. \nYhteyshenkilö: Mikko Niemi 0505861203 \n  \n  \n  \n 
URL:https://painonnosto.fi/tapahtuma/keski-pohjanmaan-punttimalja-kokkola-love/
LOCATION:Lohtajan monitoimihalli Maininki\, Karhintie 5\, Kokkola\, 68230\, Suomi
CATEGORIES:Kilpailut
ORGANIZER;CN="Lohtajan Veikot":MAILTO:mikko.t.niemi65@gmail.com
END:VEVENT
BEGIN:VEVENT
DTSTART;TZID=Europe/Helsinki:20210904T090000
DTEND;TZID=Europe/Helsinki:20210904T170000
DTSTAMP:20260423T161333
CREATED:20210721T154748Z
LAST-MODIFIED:20210724T151518Z
UID:19472-1630746000-1630774800@painonnosto.fi
SUMMARY:Juniori Cup osakilpailu (3/3) Pohjois- Suomen syyskisa\, Kokkola (LoVe)
DESCRIPTION:Taso: jäsentenvälinen/piirikunnallinen\nKilpailu käydään Pohjois-Suomen mestaruuskilpailuiden jälkeen.\nPvm 4.9.2021\nPunnitus klo 9-10\nIlmoittautuminen: Suomisportin kautta: https://www.suomisport.fi/events/495f70b8-e4cc-4a98-9fff-b0f3ad0c2ab4\nNostaja voi osallistua P-S mestaruuskilpailuihin\, jos täyttää kilpailuehdot. Kts. lisätiedot omasta tapahtumasta\,\nhinta 30€. Tulos huomioidaan myös Juniori Cupin osakilpailuun.\nNostajalle tulee olla merkitty omaan profiilin ikä/painoluokka.\nSarjavaihdot punnituksen yhteydessä.\nSarjat: Kaikki tyttöjen ja poikien painoluokat\, jotka kisataan ikäryhmittäin Juniori Cup sääntöjen mukaan.\nTytöt 12v. tai alle (Tytöt: 32\, 36\, 40\, 45\, 49\, 55\, 59\, 64\, 71 ja yli 71 kg)\nTytöt 13-16v. (Tytöt: 32\, 36\, 40\, 45\, 49\, 55\, 59\, 64\, 71 ja yli 71 kg)\nPojat 12v. tai alle (Pojat: 35\, 40\, 45\, 49\, 55\, 61\, 67\, 73\, 81 ja yli 81kg)\nPojat 13-16v. (Pojat: 35\, 40\, 45\, 49\, 55\, 61\, 67\, 73\, 81 ja yli 81kg)\nOsallistumismaksua ei palauteta \nKisakahviossa on myynnissä ruokaa ja muita virvokkeita.\nKilpailupaikalla ei ole saunaa. \nSEURAKÄYTTÄJÄT: Ilmoittakaa Suomisport ilmoittautumisen lisäksi nostajanne suoraan\nJarskille jarno.tiainen@painonnosto.fi muodossa: sukunimi\, etunimi\, seura\, syntymäaika pp.kk.vvvv\, sarja\,\npersonal best=PB jos on tehtynä.
URL:https://painonnosto.fi/tapahtuma/juniori-cup-osakilpailu-4-4-pohjois-suomen-syyskisa-kokkola-love/
LOCATION:Lohtajan monitoimihalli Maininki\, Karhintie 5\, Kokkola\, 68230\, Suomi
CATEGORIES:Kilpailut
ORGANIZER;CN="Lohtajan Veikot":MAILTO:mikko.t.niemi65@gmail.com
END:VEVENT
BEGIN:VEVENT
DTSTART;TZID=Europe/Helsinki:20210904T090000
DTEND;TZID=Europe/Helsinki:20210904T170000
DTSTAMP:20260423T161333
CREATED:20210721T154141Z
LAST-MODIFIED:20210723T164245Z
UID:19469-1630746000-1630774800@painonnosto.fi
SUMMARY:Pohjois-Suomen mestaruuskilpailut\, Kokkola (LoVe)
DESCRIPTION:Osanotto-oikeus \nPSM-kilpailuihin on osanotto-oikeus urheilijoilla\, jotka ovat saavuttaneet tulosrajan edellisen vuoden PSM-kilpailujen jälkeen (6.9.2020) ilmoittautumispäivään mennessä vähintään yhden (1) kerran kansallisissa tai tasoltaan sitä korkeammissa painonnostokilpailuissa.\nCovid-19-pandemiasta johtuen vuonna 2021 on mahdollisuus osallistua PSM-kilpailuihin myös ilman tulosrajan tekemistä\, jolloin aloituspainosääntö on erilainen kuin tulosrajan tehneellä urheilijalla.\n\nSuomen antidopingsäännöstö\nUrheilijoiden tulee olla Suomen antidopingsäännöstön mukaisen testauksen alaisena vähintään kolme (3) kuukautta ennen kuin he ovat kelpoisia osallistumaan kilpailuihin (deadline 3.6.2021). \nKisakahviossa on myynnissä ruokaa ja muita virvokkeita.\nKilpailupaikalla ei ole saunaa. \nKaikkien alle 16-vuotiaiden tulos huomioidaan JC-osakilpailuissa. \nTulosrajat:\nMiehet\n55 kg 125 kg\n61 kg 140 kg\n67 kg 165 kg\n73 kg 185 kg\n81 kg 205 kg\n89 kg 220 kg\n96 kg 230 kg\n102 kg 240 kg\n109 kg 250 kg\n+109 kg 250 kg\nNaiset\n45 kg 70 kg\n49 kg 80 kg\n55 kg 95 kg\n59 kg 105 kg\n64 kg 115 kg\n71 kg 125 kg\n76 kg 135 kg\n81 kg 140 kg\n87 kg 145 kg\n+87 kg 145 kg \nPSM-kilpailuun ilmoittautuminen \nIlmoittautumislinkki Suomisportin kautta: https://www.suomisport.fi/events/7bc030ef-ad63-47a5-9dcb-30165d61f23e \nOsallistua voivat vain lisenssin lunastaneet Suomen Painonnostoliiton palvelumaksun maksanutta seuraa edustavat urheilijat. \nUrheilijoiden tulee olla Suomen antidopingsäännöstön mukaisen testauksen alaisena vähintään kolme (3) kuukautta ennen kuin he ovat kelpoisia osallistumaan kilpailuihin (deadline 3.6.2021). \nOsallistua voivat ennen 2007 syntyneet urheilijat. \nSarjanvaihdon voi tehdä aiemman käytännön mukaan punnituksessa joko yhden sarjan alas- tai ylöspäin. \nSovelletaan IWF:n 20 kilon sääntöä sekä miehillä että naisilla niin\, että  jokaisen tulosrajan tehneen kilpailijan on annettava punnituksessa alkupainonsa ilmoitetusta yhteistuloksesta laskien\, kuitenkin huomioiden\, että minimikuormituksia ei aliteta. \nOsallistumisoikeus myönnetään myös urheilijoille\, jotka eivät ole tehneet tulosrajaa (minimialoituspainot =tulosraja – 10 kg) \nTangon minimikuormitus: naiset 21 kg\, miehet 26 kg. \nOsanottomaksut ja ilmoittautuminen Suomisportin kautta 30€/kilpailija.\nJärjestävän seuran (Lohtajan Veikot) jäsenille alennuskoodi on:LOVE1\nIlmoittautuminen päättyy 29.8.2021 \nTuomarien ilmoittautuminen:\nTuomarit\nTuomareilla tulee olla vähintään II-luokan kansallinen tuomarikortti\nIlmoittautuminen päättyy 29.8.2021\nYhteyshenkilö: Mikko Niemi\, 0505681203\nSähköposti: mikko.t.niemi65@gmail.com\nTERVETULOA LOHTAJALLE!\nLOHTAJAN VEIKOT
URL:https://painonnosto.fi/tapahtuma/pohjois-suomen-mestaruuskilpailut-kokkola-love/
LOCATION:Lohtajan monitoimihalli Maininki\, Karhintie 5\, Kokkola\, 68230\, Suomi
CATEGORIES:Kilpailut
ORGANIZER;CN="Lohtajan Veikot":MAILTO:mikko.t.niemi65@gmail.com
END:VEVENT
BEGIN:VEVENT
DTSTART;TZID=Europe/Helsinki:20210501T090000
DTEND;TZID=Europe/Helsinki:20210501T150000
DTSTAMP:20260423T161333
CREATED:20210413T203405Z
LAST-MODIFIED:20210413T203405Z
UID:17385-1619859600-1619881200@painonnosto.fi
SUMMARY:Kansalliset kilpailut\, Kokkola (LoVe)
DESCRIPTION:Järjestävä seura:  Lohtajan Veikot \nIlmoittautuminen:          mikko.t.niemi65@gmail.com 25.4.2021 mennessä \nMaksut:   kansalliseen kisaan osallistuvat maksavat 15 euroa seuran tilille FI7152370020014829 \n 
URL:https://painonnosto.fi/tapahtuma/kansalliset-kilpailut-kokkola-love/
LOCATION:Lohtajan monitoimihalli Maininki\, Karhintie 5\, Kokkola\, 68230\, Suomi
CATEGORIES:Kilpailut
ORGANIZER;CN="Lohtajan Veikot":MAILTO:mikko.t.niemi65@gmail.com
END:VEVENT
BEGIN:VEVENT
DTSTART;TZID=Europe/Helsinki:20200126T090000
DTEND;TZID=Europe/Helsinki:20200126T150000
DTSTAMP:20260423T161333
CREATED:20191221T084708Z
LAST-MODIFIED:20200111T162233Z
UID:10896-1580029200-1580050800@painonnosto.fi
SUMMARY:Keski-Pohjanmaan piirinmestaruuskilpailut\, Kokkola (LoVe)
DESCRIPTION:Sarjat\, tulosrajat: Kaikki sarjat \nIlmoittautuminen: sposti mikko.t.niemi65@gmail.com 19.1.2020 mennessä (huom! s-postiosoite muuttunut\, nyt siis ..gmail.com)\n \nEi osanottomaksua \n 
URL:https://painonnosto.fi/tapahtuma/keski-pohjanmaan-piirinmestaruuskilpailut-kokkola-love/
LOCATION:Lohtajan monitoimihalli Maininki\, Karhintie 5\, Kokkola\, 68230\, Suomi
CATEGORIES:Kilpailut
ORGANIZER;CN="Lohtajan Veikot":MAILTO:mikko.t.niemi65@gmail.com
END:VEVENT
BEGIN:VEVENT
DTSTART;TZID=Europe/Helsinki:20191228T090000
DTEND;TZID=Europe/Helsinki:20191228T170000
DTSTAMP:20260423T161333
CREATED:20191129T215336Z
LAST-MODIFIED:20191212T205819Z
UID:10345-1577523600-1577552400@painonnosto.fi
SUMMARY:Kansallinen Keski-Pohjanmaan Punttimalja (LoVe)
DESCRIPTION:Sarjat\, tulosrajat:  kaikki naisten ja miesten sarjat\, ei tulosrajoja \nIlmoittautuminen:  Punttimaljaan osallistuvat Kalajoen Junkkarit\, Lohtajan Veikot ja Raution Kisailijat\, kilpailu avoin myös muille. s-posti mikko.niemi65@suomi24.fi 22.12.2019 mennessä.\n \nOsanottomaksu: joukkueilta ei osanottomaksua\, muilta 15 euroa \nYhteyshenkilö ja puhnro: Mikko Niemi puh. 050 586 1203 \n 
URL:https://painonnosto.fi/tapahtuma/kansallinen-keski-pohjanmaan-punttimalja-love/
LOCATION:Lohtajan monitoimihalli Maininki\, Karhintie 5\, Kokkola\, 68230\, Suomi
CATEGORIES:Kilpailut
ORGANIZER;CN="Lohtajan Veikot":MAILTO:mikko.t.niemi65@gmail.com
END:VEVENT
BEGIN:VEVENT
DTSTART;TZID=Europe/Helsinki:20190907T110000
DTEND;TZID=Europe/Helsinki:20190907T170000
DTSTAMP:20260423T161333
CREATED:20190612T071903Z
LAST-MODIFIED:20190829T080923Z
UID:7112-1567854000-1567875600@painonnosto.fi
SUMMARY:Juniori Cup osakilpailu (4/4) Pohjois-Suomen syyskisa (LoVe)
DESCRIPTION:Juniori Cup (4/4) Pohjois-Suomen syyskisa (07.09.2019)\n7.9.2019 \nJuniori Cupin kisaan ilmoittautuneita on 22 ja lisäksi neljä nostajaa on nostamassa jo P-S mestaruuskilpailuissa\, joiden tulos otetaan mukaan myös JC-kisaan. \nTaso: jäsentenvälinen/piirikunnallinen\nKilpailu käydään Pohjois-Suomen mestaruuskilpailuiden jälkeen.\nPvm 7.9.2019\nPunnitus klo 9-10\nIlmoittautuminen: Suomisportin kautta:\nNostaja voi osallistua P-S mestaruuskilpailuihin\, jos täyttää kilpailuehdot. Kts. lisätiedot omasta tapahtumasta\,\nhinta 30€. Tulos huomioidaan myös Juniori Cupin osakilpailuun.\nNostajalle tulee olla merkitty omaan profiilin ikä/painoluokka\nSarjavaihdot punnituksen yhteydessä\nSarjat: Kaikki tyttöjen ja poikien painoluokat\, jotka kisataan ikäryhmittäin Juniori Cup sääntöjen mukaan\nTytöt 12v. tai alle (Tytöt: 32\, 36\, 40\, 45\, 49\, 55\, 59\, 64\, 71 ja yli 71 kg)\nTytöt 13-16v. (Tytöt: 32\, 36\, 40\, 45\, 49\, 55\, 59\, 64\, 71 ja yli 71 kg)\nPojat 12v. tai alle (Pojat: 35\, 40\, 45\, 49\, 55\, 61\, 67\, 73\, 81 ja yli 81kg)\nPojat 13-16v. (Pojat: 35\, 40\, 45\, 49\, 55\, 61\, 67\, 73\, 81 ja yli 81kg)\nOsallistumismaksua ei palauteta\nKisakahviossa on myynnissä ruokaa ja muita virvokkeita.\nKilpailupaikalla ei ole saunaa. \nSEURAKÄYTTÄJÄT: Ilmoittakaa Suomisport ilmoittautumisen lisäksi nostajanne suoraan Jarskille jarno.tiainen@painonnosto.fi muodossa: sukunimi\, etunimi\, seura\, syntymäaika pp.kk.vvvv\, sarja\, personal best=PB jos on tehtynä.
URL:https://painonnosto.fi/tapahtuma/juniori-cup-osakilpailu-4-4-pohjois-suomen-syyskisa-love/
LOCATION:Lohtajan monitoimihalli Maininki\, Karhintie 5\, Kokkola\, 68230\, Suomi
CATEGORIES:Kilpailut
ORGANIZER;CN="Lohtajan Veikot":MAILTO:mikko.t.niemi65@gmail.com
END:VEVENT
BEGIN:VEVENT
DTSTART;VALUE=DATE:20190907
DTEND;VALUE=DATE:20190908
DTSTAMP:20260423T161333
CREATED:20180228T101425Z
LAST-MODIFIED:20190612T073509Z
UID:697-1567814400-1567900799@painonnosto.fi
SUMMARY:Pohjois-Suomen mestaruuskilpailut (LoVe) (07.09.2019)
DESCRIPTION:Kutsu\nPohjois-Suomen mestaruuskilpailut\, (07.09.2019)\n7.9.2019\nAikataulu: punnitus klo 9-10 ja kilpailu klo 11 alkaen\nIlmoittautuminen ja osallistumismaksut: Suomisportin kautta\nKäytettävissä olevat tuomarit pyydetään ilmoittamaan suoraan Suomisportin kautta\n(alennuskoodi TUOMARI1)\, voi ilmoittaa myös osoitteeseen: mikko.niemi65@suomi24.fi. Jos ilmoittaudut myös nostajaksi ja tuomariksi\, niin ilmoittaudu vain nostajaksi Suomisportiin ja laita lisätietokenttään tieto\, että tulet tuomaroimaan. \nKilpalun järjestäjien Lohtajan Veikkojen omien nostajien alennuskoodi LOVE1 \nKaikkien alle 16-vuotiaiden tulos huomioidaan JC-osakilpailuissa \nTulosrajat:\nMiehet\n55 kg 125 kg\n61 kg 140 kg\n67 kg 165 kg\n73 kg 185 kg\n81 kg 205 kg\n89 kg 220 kg\n96 kg 230 kg\n102 kg 240 kg\n109 kg 250 kg\n+109 kg 250 kg\nNaiset\n45 kg 70 kg\n49 kg 80 kg\n55 kg 95 kg\n59 kg 105 kg\n64 kg 115 kg\n71 kg 125 kg\n76 kg 135 kg\n81 kg 140 kg\n87 kg 145 kg\n+87 kg 145 kg\n– Tulosraja on tehtävä 9.9.2018-25.8.2019 välisenä aikana vähintään yhden (1) kerran\nkansallisissa tai tasoltaan sitä korkeammissa painonnostokilpailuissa.\n– Ilmoittautua voi ainoastaan siihen sarjaan\, johon tulosraja on tehty. Sarjanvaihdon voi tehdä\naikaisemman käytännön mukaisesti punnituksessa joko yhden sarjan alas- tai ylöspäin.\n– Kilpailuissa sovelletaan Kansainvälisen Painonnostoliiton (IWF) 20 kilon sääntöä sekä miehillä\nettä naisilla niin\, että jokaisen kilpailijan on annettava alkupainonsa punnituksessa kyseisen\nsarjan tulosrajasta laskien.\n– Kilpailuihin on osanotto-oikeus urheilijalla\, joka on lunastanut kilpailulisenssin ja jonka edustama\nseura on maksanut Suomen Painonnostoliiton palvelumaksun.\n– Urheilijoiden tulee olla Suomen antidopingsäännöstön mukaisen testauksen alaisena vähintään\nkolme (3) kuukautta ennen kuin he ovat kelpoisia osallistumaan kilpailuihin (deadline 7.6.2019).\n– Tangon minimikuormitus: naiset 21kg\, miehet 26kg.\nOsallistumismaksua ei palauteta\nKisakahviossa on myynnissä ruokaa ja muita virvokkeita.\nKilpailupaikalla ei ole saunaa. \nSEURAKÄYTTÄJÄT: Ilmoittakaa Suomisport ilmoittautumisen lisäksi nostajanne suoraan Jarskille jarno.tiainen@painonnosto.fi muodossa: sukunimi\, etunimi\, seura\, syntymäaika pp.kk.vvvv\, sarja\, personal best=PB jos on tehtynä.
URL:https://painonnosto.fi/tapahtuma/pohjois-suomen-mestaruuskilpailut-love-07-09-2019/
LOCATION:Lohtajan monitoimihalli Maininki\, Karhintie 5\, Kokkola\, 68230\, Suomi
CATEGORIES:Kilpailut
ORGANIZER;CN="Lohtajan Veikot":MAILTO:mikko.t.niemi65@gmail.com
END:VEVENT
BEGIN:VEVENT
DTSTART;TZID=Europe/Helsinki:20190629T100000
DTEND;TZID=Europe/Helsinki:20190629T150000
DTSTAMP:20260423T161333
CREATED:20190527T181707Z
LAST-MODIFIED:20190528T190133Z
UID:6895-1561802400-1561820400@painonnosto.fi
SUMMARY:Hanskin puntti\, kansallinen kilpailu\, Kokkola
DESCRIPTION:Kaikki IWF:n naisten ja miesten sarjat.  Masters-nostajille omat sarjat. \nYhteyshenkilö Mikko Niemi 050 586 1203 \nIlmoittautuminen 23.06.2019 mennessä s-postiin mikko.niemi65@suomi24.fi
URL:https://painonnosto.fi/tapahtuma/hanskin-puntti-kansallinen-kilpailu-kokkola/
LOCATION:Lohtajan monitoimihalli Maininki\, Karhintie 5\, Kokkola\, 68230\, Suomi
CATEGORIES:Kilpailut
ORGANIZER;CN="Lohtajan Veikot":MAILTO:mikko.t.niemi65@gmail.com
END:VEVENT
BEGIN:VEVENT
DTSTART;TZID=Europe/Helsinki:20190323T110000
DTEND;TZID=Europe/Helsinki:20190323T170000
DTSTAMP:20260423T161333
CREATED:20190206T151954Z
LAST-MODIFIED:20190306T072247Z
UID:4893-1553338800-1553360400@painonnosto.fi
SUMMARY:Piiriottelu Keski-Pohjanmaa Keski-Suomi Etelä-Pohjanmaa
DESCRIPTION:Kaikki naisten ja miesten sarjat. Joukkueissa 8 miestä ja 8 naista\, enintään 2 nostajaa/sarja\, jos varanostajia joukkueessa\, ne voivat nostaa\, muuten suljettu. \nJoukkueiden ilmoittautuminen koostusti varanostajineen 17.3.2019 mennessä \nJoukkueilla ei osallistumismaksua \nKisapaikalla ei saunaa. Lämmin ruoka järjestetty. \nTuomarit\, vähintään kaksi/ piiri
URL:https://painonnosto.fi/tapahtuma/piiriottelu-keski-pohjanmaa-keski-suomi-etela-pohjanmaa/
LOCATION:Lohtajan monitoimihalli Maininki\, Karhintie 5\, Kokkola\, 68230\, Suomi
ORGANIZER;CN="Lohtajan Veikot":MAILTO:mikko.t.niemi65@gmail.com
END:VEVENT
BEGIN:VEVENT
DTSTART;TZID=Europe/Helsinki:20181229T100000
DTEND;TZID=Europe/Helsinki:20181229T170000
DTSTAMP:20260423T161333
CREATED:20181129T081413Z
LAST-MODIFIED:20181129T081745Z
UID:3697-1546077600-1546102800@painonnosto.fi
SUMMARY:Kansalliset Uudenvuodennostot\, Kokkola (LoVe)
DESCRIPTION:Kaikki naisten ja miesten sarjat. \n 
URL:https://painonnosto.fi/tapahtuma/kansalliset-uudenvuodennostot-kokkola-love/
LOCATION:Lohtajan monitoimihalli Maininki\, Karhintie 5\, Kokkola\, 68230\, Suomi
CATEGORIES:Kilpailut
ORGANIZER;CN="Lohtajan Veikot":MAILTO:mikko.t.niemi65@gmail.com
END:VEVENT
END:VCALENDAR