BEGIN:VCALENDAR
VERSION:2.0
PRODID:-//Painonnostoliitto - ECPv6.15.14//NONSGML v1.0//EN
CALSCALE:GREGORIAN
METHOD:PUBLISH
X-ORIGINAL-URL:https://painonnosto.fi
X-WR-CALDESC:Tapahtumat Painonnostoliitto
REFRESH-INTERVAL;VALUE=DURATION:PT1H
X-Robots-Tag:noindex
X-PUBLISHED-TTL:PT1H
BEGIN:VTIMEZONE
TZID:Europe/Helsinki
BEGIN:DAYLIGHT
TZOFFSETFROM:+0200
TZOFFSETTO:+0300
TZNAME:EEST
DTSTART:20230326T010000
END:DAYLIGHT
BEGIN:STANDARD
TZOFFSETFROM:+0300
TZOFFSETTO:+0200
TZNAME:EET
DTSTART:20231029T010000
END:STANDARD
BEGIN:DAYLIGHT
TZOFFSETFROM:+0200
TZOFFSETTO:+0300
TZNAME:EEST
DTSTART:20240331T010000
END:DAYLIGHT
BEGIN:STANDARD
TZOFFSETFROM:+0300
TZOFFSETTO:+0200
TZNAME:EET
DTSTART:20241027T010000
END:STANDARD
BEGIN:DAYLIGHT
TZOFFSETFROM:+0200
TZOFFSETTO:+0300
TZNAME:EEST
DTSTART:20250330T010000
END:DAYLIGHT
BEGIN:STANDARD
TZOFFSETFROM:+0300
TZOFFSETTO:+0200
TZNAME:EET
DTSTART:20251026T010000
END:STANDARD
END:VTIMEZONE
BEGIN:VEVENT
DTSTART;VALUE=DATE:20240615
DTEND;VALUE=DATE:20240624
DTSTAMP:20260423T021350
CREATED:20230907T070557Z
LAST-MODIFIED:20240508T060143Z
UID:31190-1718409600-1719187199@painonnosto.fi
SUMMARY:Masters EM 2024\, Haugesund\, Norja
DESCRIPTION:Starttilistat (29.4.2024)\n(Ladattava versio MIEHET\, NAISET) \nMENS START LIST EUROMASTERS 2024 - UPDATED 29-04-24 WOMENS START LIST EUROMASTERS 2024 - UPDATED 29-04-24 \nWOMENS START LIST EUROMASTERS 2024 - UPDATED 29-04-24\nTarkista aina strattilistat kisajärjestäjän virallisilta sivuilta \nAikataulut\n(Ladattava versio aikataulut) \nEURO MASTERS WEIGHTLIFTING COMPETITION SCHEDULE 07-04-24 (2)\nTarkista aina aikataulut kisajärjestäjän virallisilta sivuilta \nIlmoittautuminen\nSuomisportista: \nhttps://www.suomisport.fi/events/84b7bbdd-446a-45b7-a6d9-3d6d39d04df0 \nSuomalaisten ilmoittautuminen tehdään keskitetysti Suomisportin kautta viikkoa ennen virallista ilmoittautumisajan päättymistä\, tällä varmistamme\, että joukkueenjohtajalla on aikaa kerätä joukkue kasaan. Ilmoittautumismaksulla katetaan myös Suomen joukkueen johtajan kustannuksia\, joka myös valitsee erikseen kaikista lähtijöistä Suomen joukkueen joukkuekilpailuun. \n\nLISÄTIEDOT\nJorma Pallari\, jorma.pallari@gmail.com\, +358503738703\n\n\nKilpailun ajankohta on 15.6-23.6.2024 Suomalaisten ilmoittautuminen 28.3.2024 mennessä SPNL ilmoittaa keskitetysti kaikki ilmoittautuneet tämän jälkeen viralliseen Masters-rekisteröinti järjestelmään. Huomioithan\, että osallistujamäärän kasvaessa suureksi\, saatetaan osallistujamäärää rajoittaa. \nSaat sähköpostiisi ilmoituksen kansainvälisestä järjestelmästä sähköpostiisi\, kun liittoon on lähettänyt ilmoittautumistietosi eteenpäin kansainväliselle Masters-toimikunnalle. \nNorjan Painonnostoliitto järjestää yhdessä Maailman Masters painonnosto yhdistyksen kanssa painonnoston Masters EM-kilpailut 15.-23.6.2024 Haugesundissa\, Norjassa. Huomioi uusi sääntömuutos: Masters urehilijat voivat vaihtaa painoluokkaa yhden sarjan alas tai yhden sarjan ylöspäin ilmoitetusta painoluokasta\, tämä täytyy ilmoittaa keskiviikkoon 12.6.2024 keskiyöhön mennessä\, mutta suomalaisten osalta sarjanvaihdot uuteen Suomisport sarjanvaihtotapahtumaan https://www.suomisport.fi/events/999fc681-b253-41e8-a9ae-556d3af09a4c vuorokautta aikaisemmin 11.6.2024 mennessä. \nKilpailupaikka: QUALITY HOTEL MARITIM\, Åsbygata 3\, 5528 Haugesund\, Norway \nIlmoittautuessa sinulla tulee olla voimassa oleva lisenssi. Lisäksi tulee olla käytynä vähintään kaksi piirikunnallisen tason kilpailua(joista SM-kilpailu voi olla siis toinen). Kaikilla suomalaisilla tulee olla voimassa oleva Puhtaasti Paras verkkokoulutus www.puhtaastiparas.fi Tuloksenteko aika 12.5.2023- 1.4.2024\, suomalaisten tekemä tulos täytyy olla tehtynä kyseisenä ajankohtana. \nTulosrajat: https://www.imwa-reg.com/assets/pdfs/2024%20EMWA%20QUALIFYING%20STANDARDS%20updated%20to%201%20April%202024.pdf Hotellivaraukset hoitaa jokainen itse. \nSitova ilmoittautuminen\, ilmoittautumismaksua ei palauteta. Suomen joukkueelle on mukana myös oma joukkueenjohtaja. \nMikäli kilpailet liikuntarajoitteisten luokassa\, tarkista säännöstä: https://www.imwa-reg.com/assets/pdfs/2024%20IMWA%20STANDARDS%20of%20ELIGBLE%20IMPAIRMENTS.pdf \nHaluatko kilpailla luokassa\, joka poikkeaa syntymästäsi määrittämästäsi sukupuolesta\, tarkista säännöistä: https://www.imwa-reg.com/assets/pdfs/2024%20IMWA%20GENDER%20IDENTITY%20POLICY.pdf \n\nTulosrajat: \n \nLisätietoa: \n\nForside \n\nMajoitus:\nHotelli Quality Hotel Maritim
URL:https://painonnosto.fi/tapahtuma/masters-em-2024-haugesund-norja/
LOCATION:Sportssentert i Tysværtunet Kulturhus\, Aksdalsvegen 157\, Aksdal\, 5570
CATEGORIES:Kilpailut
ATTACH;FMTTYPE=image/jpeg:https://painonnosto.fi/wp-content/uploads/2023/09/Masters-logo-EM2024-Norja.jpg
END:VEVENT
END:VCALENDAR