BEGIN:VCALENDAR
VERSION:2.0
PRODID:-//Painonnostoliitto - ECPv6.15.14//NONSGML v1.0//EN
CALSCALE:GREGORIAN
METHOD:PUBLISH
X-ORIGINAL-URL:https://painonnosto.fi
X-WR-CALDESC:Tapahtumat Painonnostoliitto
REFRESH-INTERVAL;VALUE=DURATION:PT1H
X-Robots-Tag:noindex
X-PUBLISHED-TTL:PT1H
BEGIN:VTIMEZONE
TZID:Europe/Helsinki
BEGIN:DAYLIGHT
TZOFFSETFROM:+0200
TZOFFSETTO:+0300
TZNAME:EEST
DTSTART:20210328T010000
END:DAYLIGHT
BEGIN:STANDARD
TZOFFSETFROM:+0300
TZOFFSETTO:+0200
TZNAME:EET
DTSTART:20211031T010000
END:STANDARD
BEGIN:DAYLIGHT
TZOFFSETFROM:+0200
TZOFFSETTO:+0300
TZNAME:EEST
DTSTART:20220327T010000
END:DAYLIGHT
BEGIN:STANDARD
TZOFFSETFROM:+0300
TZOFFSETTO:+0200
TZNAME:EET
DTSTART:20221030T010000
END:STANDARD
BEGIN:DAYLIGHT
TZOFFSETFROM:+0200
TZOFFSETTO:+0300
TZNAME:EEST
DTSTART:20230326T010000
END:DAYLIGHT
BEGIN:STANDARD
TZOFFSETFROM:+0300
TZOFFSETTO:+0200
TZNAME:EET
DTSTART:20231029T010000
END:STANDARD
END:VTIMEZONE
BEGIN:VEVENT
DTSTART;VALUE=DATE:20220723
DTEND;VALUE=DATE:20220724
DTSTAMP:20260423T161415
CREATED:20220303T083041Z
LAST-MODIFIED:20220419T071429Z
UID:22492-1658534400-1658620799@painonnosto.fi
SUMMARY:Kiuruveden Urheilijoiden piirileiri nuorille
DESCRIPTION:Tarkemmat lisätiedot myöhemmin \nLeirin vetäjänä Teemu Roininen \nTapahtuma Kiuruvedellä \nYhteyshenkilö \nAnne Vuorikoski \nannevuorikoski90@gmail.com
URL:https://painonnosto.fi/tapahtuma/kiuruveden-urheilijoiden-piirileiri-nuorille/
ATTACH;FMTTYPE=image/jpeg:https://painonnosto.fi/wp-content/uploads/2018/12/KiurU-e1648623124845.jpg
END:VEVENT
END:VCALENDAR