BEGIN:VCALENDAR
VERSION:2.0
PRODID:-//Painonnostoliitto - ECPv6.15.14//NONSGML v1.0//EN
CALSCALE:GREGORIAN
METHOD:PUBLISH
X-WR-CALNAME:Painonnostoliitto
X-ORIGINAL-URL:https://painonnosto.fi
X-WR-CALDESC:Tapahtumat Painonnostoliitto
REFRESH-INTERVAL;VALUE=DURATION:PT1H
X-Robots-Tag:noindex
X-PUBLISHED-TTL:PT1H
BEGIN:VTIMEZONE
TZID:Europe/Helsinki
BEGIN:DAYLIGHT
TZOFFSETFROM:+0200
TZOFFSETTO:+0300
TZNAME:EEST
DTSTART:20210328T010000
END:DAYLIGHT
BEGIN:STANDARD
TZOFFSETFROM:+0300
TZOFFSETTO:+0200
TZNAME:EET
DTSTART:20211031T010000
END:STANDARD
BEGIN:DAYLIGHT
TZOFFSETFROM:+0200
TZOFFSETTO:+0300
TZNAME:EEST
DTSTART:20220327T010000
END:DAYLIGHT
BEGIN:STANDARD
TZOFFSETFROM:+0300
TZOFFSETTO:+0200
TZNAME:EET
DTSTART:20221030T010000
END:STANDARD
BEGIN:DAYLIGHT
TZOFFSETFROM:+0200
TZOFFSETTO:+0300
TZNAME:EEST
DTSTART:20230326T010000
END:DAYLIGHT
BEGIN:STANDARD
TZOFFSETFROM:+0300
TZOFFSETTO:+0200
TZNAME:EET
DTSTART:20231029T010000
END:STANDARD
END:VTIMEZONE
BEGIN:VEVENT
DTSTART;TZID=Europe/Helsinki:20220507T100000
DTEND;TZID=Europe/Helsinki:20220507T170000
DTSTAMP:20260423T131327
CREATED:20220226T081253Z
LAST-MODIFIED:20220414T144113Z
UID:22376-1651917600-1651942800@painonnosto.fi
SUMMARY:Kansallinen Atleetti Cup\, Rovaniemi (OAK)
DESCRIPTION:Sarjat: kaikki naisten ja miesten sarjat\, omat sarjat alle 17-vuotiaille \nIlmoittautuminen: Eero Ojalle (eero-oja@hotmail.com) ke 4.5. mennessä \nOsallistumismaksu 15 euroa; maksetaan tilille: Ounasvaaran Atleetti Klubi ry \nTilinumero (IBAN): FI67 5640 0220 2833 73 \nKäytä maksaessasi viitenumeroa 1025 \nYhteyshenkilö: Eero Oja\, puh. 040 533 2661 \nKilpailut järjestetään koronatilanteen salliessa ja tarvittaessa tilanteen vaatimin ohjeistuksin tämän kisakutsun yhteydessä tarkentaen. \n 
URL:https://painonnosto.fi/tapahtuma/kansallinen-atleetti-cup-rovaniemi-oak-2/
LOCATION:Santasport Lapin Urheiluopisto\, Voimapaja\, Hiihtomajantie 2\, Rovaniemi\, 96400
CATEGORIES:Kilpailut
ORGANIZER;CN="Ounasvaaran Atleetti Klubi":MAILTO:info@atleettiklubi.fi
END:VEVENT
END:VCALENDAR