BEGIN:VCALENDAR
VERSION:2.0
PRODID:-//Painonnostoliitto - ECPv6.15.14//NONSGML v1.0//EN
CALSCALE:GREGORIAN
METHOD:PUBLISH
X-ORIGINAL-URL:https://painonnosto.fi
X-WR-CALDESC:Tapahtumat Painonnostoliitto
REFRESH-INTERVAL;VALUE=DURATION:PT1H
X-Robots-Tag:noindex
X-PUBLISHED-TTL:PT1H
BEGIN:VTIMEZONE
TZID:Europe/Helsinki
BEGIN:DAYLIGHT
TZOFFSETFROM:+0200
TZOFFSETTO:+0300
TZNAME:EEST
DTSTART:20220327T010000
END:DAYLIGHT
BEGIN:STANDARD
TZOFFSETFROM:+0300
TZOFFSETTO:+0200
TZNAME:EET
DTSTART:20221030T010000
END:STANDARD
BEGIN:DAYLIGHT
TZOFFSETFROM:+0200
TZOFFSETTO:+0300
TZNAME:EEST
DTSTART:20230326T010000
END:DAYLIGHT
BEGIN:STANDARD
TZOFFSETFROM:+0300
TZOFFSETTO:+0200
TZNAME:EET
DTSTART:20231029T010000
END:STANDARD
BEGIN:DAYLIGHT
TZOFFSETFROM:+0200
TZOFFSETTO:+0300
TZNAME:EEST
DTSTART:20240331T010000
END:DAYLIGHT
BEGIN:STANDARD
TZOFFSETFROM:+0300
TZOFFSETTO:+0200
TZNAME:EET
DTSTART:20241027T010000
END:STANDARD
BEGIN:DAYLIGHT
TZOFFSETFROM:+0200
TZOFFSETTO:+0300
TZNAME:EEST
DTSTART:20250330T010000
END:DAYLIGHT
BEGIN:STANDARD
TZOFFSETFROM:+0300
TZOFFSETTO:+0200
TZNAME:EET
DTSTART:20251026T010000
END:STANDARD
BEGIN:DAYLIGHT
TZOFFSETFROM:+0200
TZOFFSETTO:+0300
TZNAME:EEST
DTSTART:20260329T010000
END:DAYLIGHT
BEGIN:STANDARD
TZOFFSETFROM:+0300
TZOFFSETTO:+0200
TZNAME:EET
DTSTART:20261025T010000
END:STANDARD
END:VTIMEZONE
BEGIN:VEVENT
DTSTART;TZID=Europe/Helsinki:20250803T120000
DTEND;TZID=Europe/Helsinki:20250803T160000
DTSTAMP:20260421T054502
CREATED:20250704T071909Z
LAST-MODIFIED:20250806T114657Z
UID:42755-1754222400-1754236800@painonnosto.fi
SUMMARY:SBD Suomen CUP 2025\, Kansallinen kilpailu\, Karvia (KarKi)
DESCRIPTION:Kilpailutiedot:\nKaikki sarjat ja painoluokat. Ei tulosrajoja.\n\nAikataulu:\nPunnitusaika – klo 10.00 – 11.00\nKilpailu alkaa – klo 12.00\n\nOsallistumismaksu:\n30\,00 €\nKarvian Kirin jäsenille ilmainen\n\nLisätiedot:\nKari Tuuliniemi\nkarituuliniemi@live.com\n0400515407\n\nOsoite:\nUlkokisa Kantapubi Tällin edessä \nTyyni Tuulion katu 12\, 39930 Karvia\, Suomi\nKilpailu järjestetään ulkona sää olosuhteiden suotaessa.
URL:https://painonnosto.fi/tapahtuma/kansallinen-kilpailu-karvia-karki/
CATEGORIES:Kilpailut
ATTACH;FMTTYPE=image/png:https://painonnosto.fi/wp-content/uploads/2022/03/KarKi-logo-e1673343719561.png
ORGANIZER;CN="Karvian Kiri":MAILTO:karituuliniemi@live.com
END:VEVENT
BEGIN:VEVENT
DTSTART;TZID=Europe/Helsinki:20240128T100000
DTEND;TZID=Europe/Helsinki:20240128T163000
DTSTAMP:20260421T054502
CREATED:20231221T144410Z
LAST-MODIFIED:20231221T144410Z
UID:32666-1706436000-1706459400@painonnosto.fi
SUMMARY:Lounais-Suomen piirinmestaruuskilpailut\, Karvia (KarKi)
DESCRIPTION:IWF:n naisten ja miesten sarjat. \nIlmoittautumiset osoitteeseen karituuliniemi@live.com \n  \n 
URL:https://painonnosto.fi/tapahtuma/lounais-suomen-piirinmestaruuskilpailut-karvia-karki-2/
LOCATION:Karviatalo\, Tyyni Tuulion katu 12\, Karvia\, 39930
CATEGORIES:Kilpailut
ORGANIZER;CN="Karvian Kiri":MAILTO:karituuliniemi@live.com
END:VEVENT
BEGIN:VEVENT
DTSTART;VALUE=DATE:20230224
DTEND;VALUE=DATE:20230227
DTSTAMP:20260421T054502
CREATED:20220302T085727Z
LAST-MODIFIED:20230222T175503Z
UID:22471-1677196800-1677455999@painonnosto.fi
SUMMARY:Yleisen sarjan SM-kilpailut 2023\, Karvia (KarKi)
DESCRIPTION:Aikataulu\nPe 24.2 punnitus klo 10 \nRyhmä 1 N 49\nRyhmä 2 M 55 – M73\nRyhmä 3 M 81 \nLa 25.2 punnitus klo 8 \nRyhmä 4 N 55\nRyhmä 5 N 59\nRyhmä 6 N 64\nRyhmä 7 M 89 – 96 \nSu 26.2 punnitus klo 8 \nRyhmä 8 N 71\nRyhmä 9 N 76- N 87\nRyhmä 10 M 102 – M +109 \nStarttilistat\n\nYleisen sarjan SM-kilpailut Karviatalolla 24.-26.2.2023 \n\nPunnitus\nAikataulun mukaisesti \nSauna löytyy Karviatalolta ja on päällä sekasaunana 2h ennen punnituksen alkua ja käytettävissä koko päivän. \nSarjanvaihto\nUrheilijat voivat tehdä sarjanvaihtoilmoituksen ilmoittautumisajan jälkeen klo 18:00 keskiviikkoon 22.2.2022 mennessä. Voit tehdä sarjanvaihdon yhden sarjan alaspäin tai ylöspäin. \nVoit myös perua ilmoittautumisesi koko kilpailuun\, valitsemalla sarjanvaihtovalikosta: Peruutan ilmoittautumiseni koko kilpailuun. Voit muuttaa myös ilmoitettua yhteistulostasi(entrytulos): tämä saattaa vaikuttaa\, missä ryhmässä kilpailee A\, B tai sitä seuraavassa sarjassa\, mikäli ilmoittautuneita samaan sarjaan on useampia. Kilpailunjärjestäjällä on oikeus päättää\, kuinka monta urheilijaa A-ryhmään mahtuu. \nLinkki sarjanvaihtotapahtumaan: \nhttps://www.suomisport.fi/events/2fdaebee-fe4a-4389-a056-13f2eb8284ef \nIlmoittautuminen\nSuomisportin kautta: \nUrheilijoiden ilmoittautuminen 29.1.2023 mennessä 40\,00€* \nhttps://www.suomisport.fi/events/b53390c9-a6a7-4743-866a-70829a0b70b2 \nJärjestävän seuran alennuskoodi Suomisportiin: KARKI23 \nJälki-ilmoittautuminen 30.-31.1.2023 140\,00€: \nhttps://www.suomisport.fi/events/4fcda5b5-1860-489a-8afd-428bc5f077c1 \n*Seurakäyttäjät pystyvät ilmoittamaan liikkujat myös samasta linkistä. \nTuomarit ja muut toimihenkilöt\nPyydämme seuroja ilmoittamaan joukkueensa mukana olevat tuomarit urheilijoiden kilpailuilmoittautumisen yhteydessä erillisen tapahtuman kautta. Kilpailuun tulevien tuomareiden tulee ilmoittautua Suomisportin kautta. Jokainen tuomari varaa itse mahdollisen majoituksen ja se tulee varata majoitustarjouksessa olevilla ehdoilla ja hinnoilla. SPNL korvaa yhden yön majoituksen niille tuomareille\, jotka tuomaroivat molempina päivinä\, kaksi yötä korvataan\, jos osallistuu kaikkina kolmena eri päivänä tuomaritehtäviin. \nTuomareilla tulee olla voimassa toimitsija- tai kilpailulisenssi\, jotta majoituskorvaus voidaan korvata. \nTuomaritehtäviin ja toimihenkilöksi voi ilmoittautua tästä Tuomaritehtäviin SM2023 ilmoittautumislinkki Painonnoston SM-kilpailu\, voit myös valita mihin tehtäviin haluat minäkin päivänä osallistua: \nhttps://www.suomisport.fi/events/e8522768-c813-4c84-9ddb-6ef5010d14ce \nTuomarilistat pyritään saada valmiiksi samalla kuin starttilistat. Kisajärjestäjää auttaa todella paljon\, kun saadaan etukäteen tieto tuomareista ja myös voidaan viestiä heille kisaviikonlopun tapahtumista. \nTuomarilla on oltava vähintään kansallisen I-luokan tuomarikortti. Tuomariasun oltava kilpailutoiminnan sääntöjen 15 § mukainen. \nMajoittautuminen\nMajoitusta\, kuljetuksia sekä ruokailuja koskevat lisätiedot os PAINONNOSTON SM-KISAT KARVIASSA 24.-26.2.2023 | Karvian Kiri ry (sporttisaitti.com) \n  \nPe 24.2 punnitus klo 10 \nN 45 – N 49 \nN 55 B – 64 B \nM 55 – M 81 \n  \nLa 25.2 punnitus klo 8 \nN 55 A \nN 59 A \nN 64 A \nM 89 – 96 \nVaraus N 71 B – N +87 B \n  \nSu 26.2 punnitus klo 8 \nVaraus N 71 B – N +87 B \nN 71 – N +87 \nM 102 – M +109 \n  \nTulosrajat: \nYleisen sarjan SM-kilpailut 24.-26.2.2023 Karvia\n\n\n\n\n	Tulosraja Naiset2023\n\n\n\n\n	45 kg110 kg\n\n\n	49 kg120 kg\n\n\n	55 kg135 kg\n\n\n	59 kg145 kg\n\n\n	64 kg155 kg\n\n\n	71 kg165 kg\n\n\n	76 kg170 kg\n\n\n	81 kg175 kg\n\n\n	87 kg180 kg\n\n\n	+87 kg180 kg\n\n\n\n Yleisen sarjan SM-kilpailut 24.-26.2.2023 Karvia\n\n\n\n\n	Tulosraja Miehet2023\n\n\n\n\n	55 kg160 kg\n\n\n	61 kg185 kg\n\n\n	67 kg205 kg\n\n\n	73 kg220 kg\n\n\n	81 kg240 kg\n\n\n	89 kg260 kg\n\n\n	96 kg270 kg\n\n\n	102 kg275 kg\n\n\n	109 kg280 kg\n\n\n	+109 kg280 kg\n\n\n\n \n 
URL:https://painonnosto.fi/tapahtuma/yleisen-sarjan-sm-kilpailut-karviakarki/
LOCATION:Karvia sali\, Tyyni Tuulion katu 12\, Karvia\, 39930
CATEGORIES:Kilpailut
ATTACH;FMTTYPE=image/png:https://painonnosto.fi/wp-content/uploads/2022/03/KarKi-logo-e1673343719561.png
ORGANIZER;CN="Karvian Kiri":MAILTO:karituuliniemi@live.com
END:VEVENT
END:VCALENDAR