BEGIN:VCALENDAR
VERSION:2.0
PRODID:-//Painonnostoliitto - ECPv6.15.14//NONSGML v1.0//EN
CALSCALE:GREGORIAN
METHOD:PUBLISH
X-WR-CALNAME:Painonnostoliitto
X-ORIGINAL-URL:https://painonnosto.fi
X-WR-CALDESC:Tapahtumat Painonnostoliitto
REFRESH-INTERVAL;VALUE=DURATION:PT1H
X-Robots-Tag:noindex
X-PUBLISHED-TTL:PT1H
BEGIN:VTIMEZONE
TZID:Europe/Helsinki
BEGIN:DAYLIGHT
TZOFFSETFROM:+0200
TZOFFSETTO:+0300
TZNAME:EEST
DTSTART:20210328T010000
END:DAYLIGHT
BEGIN:STANDARD
TZOFFSETFROM:+0300
TZOFFSETTO:+0200
TZNAME:EET
DTSTART:20211031T010000
END:STANDARD
BEGIN:DAYLIGHT
TZOFFSETFROM:+0200
TZOFFSETTO:+0300
TZNAME:EEST
DTSTART:20220327T010000
END:DAYLIGHT
BEGIN:STANDARD
TZOFFSETFROM:+0300
TZOFFSETTO:+0200
TZNAME:EET
DTSTART:20221030T010000
END:STANDARD
BEGIN:DAYLIGHT
TZOFFSETFROM:+0200
TZOFFSETTO:+0300
TZNAME:EEST
DTSTART:20230326T010000
END:DAYLIGHT
BEGIN:STANDARD
TZOFFSETFROM:+0300
TZOFFSETTO:+0200
TZNAME:EET
DTSTART:20231029T010000
END:STANDARD
BEGIN:DAYLIGHT
TZOFFSETFROM:+0200
TZOFFSETTO:+0300
TZNAME:EEST
DTSTART:20240331T010000
END:DAYLIGHT
BEGIN:STANDARD
TZOFFSETFROM:+0300
TZOFFSETTO:+0200
TZNAME:EET
DTSTART:20241027T010000
END:STANDARD
BEGIN:DAYLIGHT
TZOFFSETFROM:+0200
TZOFFSETTO:+0300
TZNAME:EEST
DTSTART:20250330T010000
END:DAYLIGHT
BEGIN:STANDARD
TZOFFSETFROM:+0300
TZOFFSETTO:+0200
TZNAME:EET
DTSTART:20251026T010000
END:STANDARD
END:VTIMEZONE
BEGIN:VEVENT
DTSTART;TZID=Europe/Helsinki:20240113T090000
DTEND;TZID=Europe/Helsinki:20240113T150000
DTSTAMP:20260421T041338
CREATED:20231221T065835Z
LAST-MODIFIED:20231221T065835Z
UID:32637-1705136400-1705158000@painonnosto.fi
SUMMARY:Kansallinen kutsukilpailu\, Oulu (APW)
DESCRIPTION:IWF:n sarjat\, ei tulosrajoja \nIlmoittautuminen: kutsukilpailu \nYhteyshenkilö ja puhelinnumero: Santtu Postareff 0415442095 \n  \n 
URL:https://painonnosto.fi/tapahtuma/kansallinen-kutsukilpailu-oulu-apw/
LOCATION:CrossFit Routa\, Kaarnatie 14\, Oulu\, 90530
CATEGORIES:Kilpailut
ORGANIZER;CN="Alppilan Puntti-Weikot":MAILTO:alppilanpunttiweikot@gmail.com
END:VEVENT
BEGIN:VEVENT
DTSTART;TZID=Europe/Helsinki:20230902T150000
DTEND;TZID=Europe/Helsinki:20230902T190000
DTSTAMP:20260421T041338
CREATED:20230717T083547Z
LAST-MODIFIED:20230717T173205Z
UID:30358-1693666800-1693681200@painonnosto.fi
SUMMARY:Juniori Cup osakilpailu Pohjois-Suomen syyskisa Oulu\, APW
DESCRIPTION:Taso: jäsentenvälinen/piirikunnallinen\nKilpailu käydään ennen Pohjois-Suomen mestaruuskilpailuiden jälkeen.\nPvm 2.9.2022\nPunnitus klo 9-10 \nTapahtumaan tarvitaan tuomareita\, yhteydenotot: 0415442095 Santtu Postareff \nIlmoittautuminen:\nSuomisportin kautta: \nhttps://www.suomisport.fi/events/6920937f-5379-4e2d-a3a7-3ddc4fdcebec \nJärjestävän seuran urheilijat voivat käyttää alennuskoodia ilmoittautuessaan ”APW23” \nNostaja voi osallistua P-S mestaruuskilpailuihin\, jos täyttää kilpailuehdot. Kts. lisätiedot omasta tapahtumasta. Tulos huomioidaan myös Juniori Cupin osakilpailuun. \nSarjavaihdot punnituksen yhteydessä. \nSarjat: Kaikki tyttöjen ja poikien painoluokat\, jotka kisataan ikäryhmittäin Juniori Cup sääntöjen mukaan.\nTytöt 12v. tai alle (Tytöt: 32\, 36\, 40\, 45\, 49\, 55\, 59\, 64\, 71 ja yli 71 kg)\nTytöt 13-16v. (Tytöt: 32\, 36\, 40\, 45\, 49\, 55\, 59\, 64\, 71 ja yli 71 kg)\nPojat 12v. tai alle (Pojat: 35\, 40\, 45\, 49\, 55\, 61\, 67\, 73\, 81 ja yli 81kg)\nPojat 13-16v. (Pojat: 35\, 40\, 45\, 49\, 55\, 61\, 67\, 73\, 81 ja yli 81kg) \n  \nOsallistumismaksua ei palauteta
URL:https://painonnosto.fi/tapahtuma/juniori-cup-osakilpailu-pohjois-suomen-syyskisa-oulu-apw/
LOCATION:CrossFit Routa\, Kaarnatie 14\, Oulu\, 90530
CATEGORIES:Kilpailut
ATTACH;FMTTYPE=image/png:https://painonnosto.fi/wp-content/uploads/2023/01/Alppilan-Puntti-Weikot-APW.png
ORGANIZER;CN="Alppilan Puntti-Weikot":MAILTO:alppilanpunttiweikot@gmail.com
END:VEVENT
BEGIN:VEVENT
DTSTART;VALUE=DATE:20230902
DTEND;VALUE=DATE:20230903
DTSTAMP:20260421T041338
CREATED:20230116T105845Z
LAST-MODIFIED:20230717T173003Z
UID:27198-1693612800-1693699199@painonnosto.fi
SUMMARY:Pohjois-Suomen mestaruuskilpailut\, Oulu (APW)
DESCRIPTION:Aikataulu:\nKahteen kilpailuun JC+PSM ilmoittautuneet nostavat klo 11:00 alkavassa ryhmässä. Pelkästään JC kilpailuun osallistuvat nostavat iltapäivällä klo 15:00 alkavassa ryhmässä. \nPohjois-Suomen mestaruuskilpailujen jälkeen nostetaan Juniori Cupin osakilpailu. Mikäli PSM ei ole päättynyt kello 15:een mennessä\, aloitetaan Juniori Cupin osakilpailu myöhemmin. Se ei muuta punnitusaikataulua\, punnitus samaan aikaan kuin JC osakilpailuun osallistuvat\, kaikki punnitaan samaan aikaan klo 09-10. \nTapahtumaan tarvitaan tuomareita\, yhteydenotot: 0415442095 Santtu Postareff \nSarjanvaihto ja poisjäänti\nVoit vaihtaa punnituksessa yhden sarjan ylöspäin tai alaspäin. Muista ilmoittaa mahdollisesta poisjäännistä kisajärjestäjälle. \nIlmoittautuminen:\nSuomisportin kautta: \nhttps://www.suomisport.fi/events/7894e2d0-0a8e-4084-a8f1-8f5cc004ec3f \nJärjestävän seuran urheilijat voivat käyttää alennuskoodia ilmoittautuessaan ”APW23” \nPalkintojen jako:\nJuniori Cupin mitalit jaetaan heti kilpailun päätyttyä\, ennen kuin PSM-kilpailu alkaa\, niiden tulosten perusteella mitä JC-kilpailussa on tehty. Ne jotka kilpailevat PSM-kilpailuissa saavat suorituksistaan pisteitä JC osakilpailun mukaan\, mutta palkinnot tulee PSM-kilpailuiden mukaan. Ne jotka osallistuvat PSM-kilpailuun\, eivät erikseen saa JC-mitalia\, vaikka sijoittuisivatkin mitaleille. \nSuomen antidopingsäännöstö \nUrheilija voi lunastaa lisenssin ilmoittautumispäivämäärään mennessä. \nUuden säännöstön tullessa voimaan vuoden 2021 alusta tulee kaikkien tehdä SUEKin uusi Puhtaasti paras -verkkokoulutus. Verkkokoulutus on uusittu kokonaisuudessaan ja vaatii käyttäjiltä uuden rekisteröitymisen. Verkkokoulutuksen linkki: https://puhtaastiparas.fi/. \nTulosrajat Pohjois-Suomen mestaruuskilpailut\, Rovaniemi: \n 
URL:https://painonnosto.fi/tapahtuma/pohjois-suomen-mestaruuskilpailut-oulu-apw/
LOCATION:CrossFit Routa\, Kaarnatie 14\, Oulu\, 90530
CATEGORIES:Kilpailut
ATTACH;FMTTYPE=image/png:https://painonnosto.fi/wp-content/uploads/2023/01/Alppilan-Puntti-Weikot-APW.png
ORGANIZER;CN="Alppilan Puntti-Weikot":MAILTO:alppilanpunttiweikot@gmail.com
END:VEVENT
BEGIN:VEVENT
DTSTART;TZID=Europe/Helsinki:20221203T110000
DTEND;TZID=Europe/Helsinki:20221203T150000
DTSTAMP:20260421T041338
CREATED:20221104T103128Z
LAST-MODIFIED:20221104T103128Z
UID:26189-1670065200-1670079600@painonnosto.fi
SUMMARY:Routa Weightlifting Battle\, Kansallinen kutsukilpailu\, Oulu (APW)
DESCRIPTION:Sarjat\, tulosrajat:  IWF:n sarjat\, ei tulosrajoja\nIlmoittautuminen: Kutsukilpailu \nYhteyshenkilö ja puhnro:  Santtu Postareff 0415442095
URL:https://painonnosto.fi/tapahtuma/routa-weightlifting-battle-kansallinen-kutsukilpailu-oulu-apw/
LOCATION:CrossFit Routa\, Kaarnatie 14\, Oulu\, 90530
ORGANIZER;CN="Alppilan Puntti-Weikot":MAILTO:alppilanpunttiweikot@gmail.com
END:VEVENT
BEGIN:VEVENT
DTSTART;TZID=Europe/Helsinki:20220409T110000
DTEND;TZID=Europe/Helsinki:20220409T180000
DTSTAMP:20260421T041338
CREATED:20220321T110152Z
LAST-MODIFIED:20220322T062053Z
UID:22638-1649502000-1649527200@painonnosto.fi
SUMMARY:Juniori Cup (2/4) Pohjois-Suomen kevätkisa\, Oulu (APW)
DESCRIPTION:Ajankohta 9.4.2022\n\nPunnitus 09:00-10:00\nKilpailu alkaa 11:00-\n\nOsanotto-oikeus:  \n\n\n\n\n\n\nOsanotto-oikeus on kaikilla Suomessa peruskoulua käyvillä. Kilpailla voi myös ilman lisenssiä\, omalla vastuulla. Kilpailulisenssin omaavien nostajien tulokset lasketaan piirikunnallisen tason tulokseksi\, ilman lisenssiä nostavien tulokset kirjataan jäsentenvälisiksi. \nKevätkisa:\nSarjat samat kuin peruskoululaisissa\, osallistumismaksu 15 €/kilpailija. Pisteet jaetaan seuraavasti:\nSarjan\nVoittajalle 4 pst.\nToiselle 2 pst.\nKolmannelle 1 pst. \nLisäksi kaikille osallistujille jaetaan onnistuneista nostoista lisäpisteitä seuraavasti:\n6 onnistunutta nostoa 3 pst.\n5 onnistunutta nostoa 2 pst.\n4 onnistunutta nostoa 1 pst.\nEnnätyksistä lisäpisteitä \nOmasta tempaus-\, työntö- ja yhteistulosennätyksestä saa kilpailun aikana yhden lisäpisteen (pisteen saa vain kerran\, vaikka tulisi useampi ennätys yksittäisessä lajissa tai yhteistuloksessa\, max. 3 pistettä). Aikaisempi ennätys huomioidaan vain edellisistä Juniori Cupin osakilpailuista tai loppuhuipentumasta johon on osallistunut. \nOSAKILPAILUJEN KOKONAISPISTEET: Kilpailijoille lasketaan KOLMEN (3) parhaimman osakilpailun pisteet yhteen\, jonka perusteella jokaisen ikäsarjan 8 parasta pääsevät mukaan loppuhuipennustapahtumaan (tasapisteissä olevat nostajat kutsutaan kaikki\, niin että sarjassa on min. 6 osallistujaa). \nOsallistumisoikeus:\nKaikilla\, jotka ovat syntyneet v. 2006 tai sen jälkeen (Yläikäraja 16 vuotta eli vuosi jolloin täyttää 16v.\, ei alaikärajaa). \nSarjat:\nKaikki tyttöjen ja poikien painoluokat\, jotka kisataan ikäryhmittäin Juniori Cup sääntöjen mukaan:\nTytöt 12v. tai alle(2010-)\nTytöt: 32\, 36\, 40\, 45\, 49\, 55\, 59\, 64\, 71 ja yli >71\nTytöt 13-16v. (2006-2009)\nTytöt: 32\, 36\, 40\, 45\, 49\, 55\, 59\, 64\, 71 ja yli >71\nPojat 12v. tai alle(2010-)\nPojat: 35\, 40\, 45\, 49\, 55\, 61\, 67\, 73\, 81ja yli >81\nPojat 13-16v. (2006-2009)\nPojat: 35\, 40\, 45\, 49\, 55\, 61\, 67\, 73\, 81 ja yli >81 \nIlmoittautuminen \n\nhttps://www.suomisport.fi/events/92ac52cf-6e5d-4fa8-a0b5-26b6780bd5c0 \nSEURAKÄYTTÄJÄT: Voitte ilmoittaa Suomisportin kautta painoluokat sekä urheilijan edustaman seuran. Lisenssiurheilijoiden osalta ei tarvitse seuraa ilmoittaa\, ne tulevat automaattisesti Suomisportista. \nPunnituksen yhteydessä käytettävään kilpailijakorttiin voi merkitä mitä tankoa haluaa käyttää. \nAlppilan Puntti-Weikot: APW:n nostajat voivat ilmoittautua tapahtumaan Suomisportista käyttämällä alennuskoodia: APWJC \nTuomarit voivat ilmoittautua samaan tapahtumaan Suomisportista käyttämällä alennuskoodia: APWREF \nLisätietoa Juniori Cupista: https://painonnosto.fi/kilpailu/juniori-cup/juniori-cup-2022/
URL:https://painonnosto.fi/tapahtuma/juniori-cup-2-4-pohjois-suomen-kevatkisa-3/
LOCATION:CrossFit Routa\, Kaarnatie 14\, Oulu\, 90530
CATEGORIES:Kilpailut
ORGANIZER;CN="Alppilan Puntti-Weikot":MAILTO:alppilanpunttiweikot@gmail.com
END:VEVENT
END:VCALENDAR